BEGIN:VCALENDAR
VERSION:2.0
PRODID:-//Private Equity Magazin - ECPv6.15.20//NONSGML v1.0//EN
CALSCALE:GREGORIAN
METHOD:PUBLISH
X-WR-CALNAME:Private Equity Magazin
X-ORIGINAL-URL:https://www.pe-magazin.de
X-WR-CALDESC:Events for Private Equity Magazin
REFRESH-INTERVAL;VALUE=DURATION:PT1H
X-Robots-Tag:noindex
X-PUBLISHED-TTL:PT1H
BEGIN:VTIMEZONE
TZID:Europe/Berlin
BEGIN:DAYLIGHT
TZOFFSETFROM:+0100
TZOFFSETTO:+0200
TZNAME:CEST
DTSTART:20180325T010000
END:DAYLIGHT
BEGIN:STANDARD
TZOFFSETFROM:+0200
TZOFFSETTO:+0100
TZNAME:CET
DTSTART:20181028T010000
END:STANDARD
BEGIN:DAYLIGHT
TZOFFSETFROM:+0100
TZOFFSETTO:+0200
TZNAME:CEST
DTSTART:20190331T010000
END:DAYLIGHT
BEGIN:STANDARD
TZOFFSETFROM:+0200
TZOFFSETTO:+0100
TZNAME:CET
DTSTART:20191027T010000
END:STANDARD
BEGIN:DAYLIGHT
TZOFFSETFROM:+0100
TZOFFSETTO:+0200
TZNAME:CEST
DTSTART:20200329T010000
END:DAYLIGHT
BEGIN:STANDARD
TZOFFSETFROM:+0200
TZOFFSETTO:+0100
TZNAME:CET
DTSTART:20201025T010000
END:STANDARD
END:VTIMEZONE
BEGIN:VEVENT
DTSTART;TZID=Europe/Berlin:20191023T173000
DTEND;TZID=Europe/Berlin:20191023T200000
DTSTAMP:20260423T175552
CREATED:20191006T135359Z
LAST-MODIFIED:20191006T135359Z
UID:21607-1571851800-1571860800@www.pe-magazin.de
SUMMARY:29. Münchner Unternehmenssteuerforum
DESCRIPTION:Das Münchner Unternehmenssteuerforum widmet sich der Förderung des Steuerrechts\, insbesondere durch steuerwissenschaftliche Fachdiskussionen zwischen Repräsentanten der Richterschaft\, der Finanzverwaltung und der Wissenschaft sowie Experten aus der Wirtschaft und der steuer- und rechtsberatenden Berufe. \n  \nDas 29. Münchner Unternehmenssteuerforum mit dem Thema \n„Aktuelle Entwicklungen im Umsatzsteuerrecht“ \nfindet am 23. Oktober 2019 um 17.30 Uhr im Literaturhaus München statt. \n  \nReferenten sind u.a. Herr Prof. Dr. David Hummel (Referent am EuGH) und Herr Wolfgang Tausch (Finanzministerium NRW). \nIm Anschluss an die Veranstaltung besteht bei einem Imbiss die Möglichkeit zum Austausch. \nDie Möglichkeit zur Anmeldung und weitere Informationen zur Veranstaltung finden Sie hier. \n 
URL:https://www.pe-magazin.de/termin/29-muenchner-unternehmenssteuerforum/
LOCATION:Literaturhaus München\, Salvatorplatz 1\, München\, Bayern\, 80331\, Deutschland
CATEGORIES:TAX
GEO:48.1418942;11.5748838
X-APPLE-STRUCTURED-LOCATION;VALUE=URI;X-ADDRESS=Literaturhaus München Salvatorplatz 1 München Bayern 80331 Deutschland;X-APPLE-RADIUS=500;X-TITLE=Salvatorplatz 1:geo:11.5748838,48.1418942
END:VEVENT
END:VCALENDAR