BEGIN:VCALENDAR
VERSION:2.0
PRODID:-//Private Equity Magazin - ECPv6.15.20//NONSGML v1.0//EN
CALSCALE:GREGORIAN
METHOD:PUBLISH
X-WR-CALNAME:Private Equity Magazin
X-ORIGINAL-URL:https://www.pe-magazin.de
X-WR-CALDESC:Events for Private Equity Magazin
REFRESH-INTERVAL;VALUE=DURATION:PT1H
X-Robots-Tag:noindex
X-PUBLISHED-TTL:PT1H
BEGIN:VTIMEZONE
TZID:Europe/Berlin
BEGIN:DAYLIGHT
TZOFFSETFROM:+0100
TZOFFSETTO:+0200
TZNAME:CEST
DTSTART:20180325T010000
END:DAYLIGHT
BEGIN:STANDARD
TZOFFSETFROM:+0200
TZOFFSETTO:+0100
TZNAME:CET
DTSTART:20181028T010000
END:STANDARD
BEGIN:DAYLIGHT
TZOFFSETFROM:+0100
TZOFFSETTO:+0200
TZNAME:CEST
DTSTART:20190331T010000
END:DAYLIGHT
BEGIN:STANDARD
TZOFFSETFROM:+0200
TZOFFSETTO:+0100
TZNAME:CET
DTSTART:20191027T010000
END:STANDARD
BEGIN:DAYLIGHT
TZOFFSETFROM:+0100
TZOFFSETTO:+0200
TZNAME:CEST
DTSTART:20200329T010000
END:DAYLIGHT
BEGIN:STANDARD
TZOFFSETFROM:+0200
TZOFFSETTO:+0100
TZNAME:CET
DTSTART:20201025T010000
END:STANDARD
END:VTIMEZONE
BEGIN:VEVENT
DTSTART;TZID=Europe/Berlin:20191112T180000
DTEND;TZID=Europe/Berlin:20191112T200000
DTSTAMP:20260423T164227
CREATED:20190614T083041Z
LAST-MODIFIED:20191011T080544Z
UID:20774-1573581600-1573588800@www.pe-magazin.de
SUMMARY:23. Münchner M&A-Forum
DESCRIPTION:Das Münchner M&A-Forum (MMA) bietet eine Plattform für Diskussionen über die jüngsten rechtlichen Entwicklungen und deren Auswirkungen auf M&A-Transaktionen. MMA freut sich als unabhängige Veranstaltung\, Verantwortliche aus Unternehmen\, Anwaltskanzleien\, Beratungs­gesellschaften\, der Zivilgerichte und der öffentlichen Verwaltung begrüßen zu dürfen. \nProgramm und Anmeldung\nDas nächste M&A-Forum zum Thema \nBridging the Gap – Instrumente zur Harmonisierung von Kaufpreisvorstellungen \nfindet am Dienstag\, 12. November 2019 von 18 bis 20 Uhr im Literaturhaus München statt. \nReferenten und Gesprächspartner sind diesmal u.a. Dr. Walter R. Henle (Partner Taylor Wessing)\, Dr. Sven Harmsen (Managing Director\, Raymond James Corporate Finance) und Christian Staby (Direktor M&A\, Knorr-Bremse AG). \nIm Anschluss an die Veranstaltung besteht die Gelegenheit zum informellen Austausch. \nWeitere Informationen zur Anmeldung sowie zu den bisherigen Veranstaltungen finden Sie hier.
URL:https://www.pe-magazin.de/termin/23-muenchener-ma-forum/
LOCATION:Literaturhaus München\, Salvatorplatz 1\, München\, Bayern\, 80331\, Deutschland
CATEGORIES:M&A/Private Equity
GEO:48.1418942;11.5748838
X-APPLE-STRUCTURED-LOCATION;VALUE=URI;X-ADDRESS=Literaturhaus München Salvatorplatz 1 München Bayern 80331 Deutschland;X-APPLE-RADIUS=500;X-TITLE=Salvatorplatz 1:geo:11.5748838,48.1418942
END:VEVENT
BEGIN:VEVENT
DTSTART;TZID=Europe/Berlin:20191119T090000
DTEND;TZID=Europe/Berlin:20191119T180000
DTSTAMP:20260423T164227
CREATED:20191011T093803Z
LAST-MODIFIED:20191113T082015Z
UID:21638-1574154000-1574186400@www.pe-magazin.de
SUMMARY:12. Hamburger Fondsgespräche
DESCRIPTION:Seit dem Herbst 2008 finden in Hamburg alljährlich im November die Hamburger Fondsgespräche statt. Sie bieten allen\, die in der Hansestadt und darüber hinaus beruflich oder privat mit geschlossenen Fonds – und insbesondere mit Private Equity oder Venture Capital Fonds – zu tun haben\, Gelegenheit\, sich über den neuesten Stand der rechtlichen und wirtschaftlichen Entwicklungen im Fondsbereich zu informieren und sich mit Kollegen\, Wettbewerbern und sonstigen Branchenkennern auszutauschen. \nDie Hamburger Fondsgespräche erfreuen sich seit ihrer Gründung eines großen Zuspruchs und sind inzwischen fest etablierter Bestandteil der Hamburger Private Equity- und Venture Capital-Szene und der bundesweiten Fondslandschaft. \nDie Gründung der Hamburger Fondsgespräche geht auf eine Initiative der Kanzleien Alpers · Wessel · Dornbach\, Schnittker Möllmann Partners und P+P Pöllath + Partners zurück. Ziel dieser Initiative war es von Anfang an\, in Hamburg ein offenes Forum für die Private Equity- und Venture Capital-Szene sowie die geschlossene Fondsindustrie zu schaffen\, das allen Personen und Unternehmen\, die sich in ihrer Arbeit mit geschlossenen Fondsprodukten beschäftigen\, zum Gedanken- und Erfahrungsaustausch zur Verfügung stehen soll. \nProgramm und Anmeldung\nDie 12. Hamburger Fondsgespräche finden am Dienstag\, 19. November 2019 von 9 bis 18 Uhr im Hotel Hafen Hamburg statt. \nThemen sind u.a.: \n\nTrump\, Brexit\, Euro-Krise: Was wird aus Deutschland und Europa?\nRenaissance körperschaftlich verfasster Fonds\nManaged Accounts für alternative Kapitalanlagen\nNutzung von Kreditlinien\nDie Digitalisierung als Schnittstelle zwischen der Fondsadministration und der Tax Compliance\nAktuelle steuerliche und regulatorische Entwicklungen\nAktuelles aus der Betriebsprüfung\n\nProgramm_12. Hamburger Fondsgespraeche \nBitte nutzen Sie für die Anmeldung zu der kostenfreien Veranstaltung das Formular auf der Seite des Veranstalters.
URL:https://www.pe-magazin.de/termin/12-hamburger-fondgespraeche/
LOCATION:Hotel Hafen Hamburg\, Seewartenstraße 9\, Hamburg\, Hamburg\, 20459\, Deutschland
CATEGORIES:Investment Funds
GEO:53.5470429;9.9689389
X-APPLE-STRUCTURED-LOCATION;VALUE=URI;X-ADDRESS=Hotel Hafen Hamburg Seewartenstraße 9 Hamburg Hamburg 20459 Deutschland;X-APPLE-RADIUS=500;X-TITLE=Seewartenstraße 9:geo:9.9689389,53.5470429
END:VEVENT
BEGIN:VEVENT
DTSTART;TZID=Europe/Berlin:20191121T180000
DTEND;TZID=Europe/Berlin:20191121T200000
DTSTAMP:20260423T164227
CREATED:20191113T081835Z
LAST-MODIFIED:20191113T081835Z
UID:21730-1574359200-1574366400@www.pe-magazin.de
SUMMARY:14. Funds Forum Frankfurt
DESCRIPTION:Manager alternativer Investmentfonds und (institutionelle) Investoren werden sich in den nächsten Jahren zunehmend mit gesetzlichen Vorschriften (insbesondere mit unmittelbar an-wendbaren EU-Verordnungen) und individuell vereinbarten Anforderungen im Bereich der ESG-Compliance auseinandersetzen müssen. Das bestehende Compliance Management ist daher oftmals noch in Bezug auf ESG-Risiken und Nachhaltigkeitsaspekte zu ergänzen. Im Rahmen der Veranstaltung sollen Bewusstsein für die Anforderungen geschaffen und mögliche Lösungsansätze diskutiert werden. \nDas 14. Funds Forum Frankfurt zum Thema „ESG-Compliance-Management: Anforderungen und Lösungsansätze für PE-Fonds und Investoren“ findet statt am \nDonnerstag\, 21. November 2019\nvon 18 bis 20 Uhr (Registrierung ab 17.30 Uhr). \nProgramm_14. Funds Forum Frankfurt \nDie Teilnahme ist kostenfrei\, der Veranstalter übernimmt die pauschale Versteuerung gemäß § 37b EStG. \nBitte nutzen Sie die Online-Anmeldung des Veranstalters. Nach erfolgreicher Registrierung erhalten Sie eine Teilnahmebestätigung.
URL:https://www.pe-magazin.de/termin/14-funds-forum-frankfurt/
LOCATION:Literaturhaus Frankfurt\, Schöne Aussicht 2\, Frankfurt am Main\, Hessen\, 60311\, Deutschland
CATEGORIES:Investment Funds
GEO:50.1093391;8.6920056
X-APPLE-STRUCTURED-LOCATION;VALUE=URI;X-ADDRESS=Literaturhaus Frankfurt Schöne Aussicht 2 Frankfurt am Main Hessen 60311 Deutschland;X-APPLE-RADIUS=500;X-TITLE=Schöne Aussicht 2:geo:8.6920056,50.1093391
END:VEVENT
END:VCALENDAR