BEGIN:VCALENDAR
VERSION:2.0
PRODID:-//Private Equity Magazin - ECPv6.15.20//NONSGML v1.0//EN
CALSCALE:GREGORIAN
METHOD:PUBLISH
X-WR-CALNAME:Private Equity Magazin
X-ORIGINAL-URL:https://www.pe-magazin.de
X-WR-CALDESC:Events for Private Equity Magazin
REFRESH-INTERVAL;VALUE=DURATION:PT1H
X-Robots-Tag:noindex
X-PUBLISHED-TTL:PT1H
BEGIN:VTIMEZONE
TZID:Europe/Berlin
BEGIN:DAYLIGHT
TZOFFSETFROM:+0100
TZOFFSETTO:+0200
TZNAME:CEST
DTSTART:20180325T010000
END:DAYLIGHT
BEGIN:STANDARD
TZOFFSETFROM:+0200
TZOFFSETTO:+0100
TZNAME:CET
DTSTART:20181028T010000
END:STANDARD
BEGIN:DAYLIGHT
TZOFFSETFROM:+0100
TZOFFSETTO:+0200
TZNAME:CEST
DTSTART:20190331T010000
END:DAYLIGHT
BEGIN:STANDARD
TZOFFSETFROM:+0200
TZOFFSETTO:+0100
TZNAME:CET
DTSTART:20191027T010000
END:STANDARD
BEGIN:DAYLIGHT
TZOFFSETFROM:+0100
TZOFFSETTO:+0200
TZNAME:CEST
DTSTART:20200329T010000
END:DAYLIGHT
BEGIN:STANDARD
TZOFFSETFROM:+0200
TZOFFSETTO:+0100
TZNAME:CET
DTSTART:20201025T010000
END:STANDARD
END:VTIMEZONE
BEGIN:VEVENT
DTSTART;TZID=Europe/Berlin:20191209T173000
DTEND;TZID=Europe/Berlin:20191209T173000
DTSTAMP:20260423T152556
CREATED:20190305T102049Z
LAST-MODIFIED:20191128T113001Z
UID:20253-1575912600-1575912600@www.pe-magazin.de
SUMMARY:73. Berliner Steuergespräche
DESCRIPTION:Seit dem Frühjahr 2002 veranstalten der Bundesverband der Deutschen Industrie (BDI) und die Kanzlei P+P Pöllath + Partners die Berliner Steuergespräche. Diese Gespräche dienen als Forum für alle\, die sich in der Hauptstadt in ihrer täglichen beruflichen Arbeit mit steuerrechtlichen und steuerpolitischen Fragen auseinandersetzen. \n  \nDas 73. Berliner Steuergespräch zum Thema „Die Reform des Außensteuerrechts“ findet statt am \nMontag\, 09. Dezember 2019\, ab [17:30] Uhr. \n  \nDas Außensteuerrecht und insbesondere die Hinzurechnungsbesteuerung sind regelmäßig Gegenstand kontroverser Diskussionen. Angesichts des internationalen Steuerwettbewerbs erscheint das Außensteuerrecht in hohem Maße reformbedürftig\, um die Stellung des Wirtschaftsstandortes Deutschland zu sichern. Mit den Umsetzungsanforderungen der ATAD-Richtlinie besteht gegenwärtig ein aktueller Anlass\, erarbeitete Reformvorhaben umzusetzen. \nDer Rat der Europäischen Union hat am 12. Juli 2016 die ATAD-Richtlinie (Anti-Tax-Avoidance-Directive – ATAD\, Richtlinie (EU) 2016/1164) beschlossen. Die ATAD-Richtlinie enthält Vorschriften zur Bekämpfung von Steuervermeidungspraktiken\, die aus Sicht der europäischen Institutionen unmittelbare negative Auswirkungen auf das Funktionieren des Binnenmarkts haben. Auch neuere Entscheidungen des Bundesfinanzhofs sowie des Europäischen Gerichtshofs haben neue Entwicklungen des Rechts der Hinzurechnungsbesteuerung aufgezeigt und dadurch den Reformdruck weiter erhöht. Gesetzgeberische Reformbemühungen werden unter anderem im Bereich der Beteiligungsvoraussetzungen\, der Inländerbeherrschung\, des Aktivitäts-/Passivitätskatalogs\, der Niedrigsteuergrenze\, des Hinzurechnungsbetrags und der Anrechnung ausländischer Steuern erwartet. \nReferenten\nProf. Dr. Gerhard Kraft (Martin-Luther-Universität Halle-Wittenberg)\nDr. Wendelin Staats (Bundesministerium der Finanzen\, Berlin)\nProf. Dr. Christian Dorenkamp (Deutsche Telerkom AG\, Bonn)\nDr. Markus Märtens (Bundesfinanzhof München)\nFranz Prinz zu Hohenlohe (WTS Group AG\, München) \nPodiumsleitung:\nProf. Dr. h.c. Rudolf Mellinghoff (Präsident des Bundesfinanzhofs\, München) \n  \nWeitere Informationen zum Verein und der Veranstaltungsreihe finden Sie hier.
URL:https://www.pe-magazin.de/termin/73-berliner-steuergespraeche-2/
LOCATION:Haus der Deutschen Wirtschaft\, Breite Straße 29\, Berlin\, 10178
CATEGORIES:TAX
GEO:52,5151126;13,4052402
X-APPLE-STRUCTURED-LOCATION;VALUE=URI;X-ADDRESS=Haus der Deutschen Wirtschaft Breite Straße 29 Berlin 10178;X-APPLE-RADIUS=500;X-TITLE=Breite Straße 29:geo:13,4052402,52,5151126
END:VEVENT
END:VCALENDAR