BEGIN:VCALENDAR
VERSION:2.0
PRODID:-//Private Equity Magazin - ECPv6.15.20//NONSGML v1.0//EN
CALSCALE:GREGORIAN
METHOD:PUBLISH
X-ORIGINAL-URL:https://www.pe-magazin.de
X-WR-CALDESC:Events for Private Equity Magazin
REFRESH-INTERVAL;VALUE=DURATION:PT1H
X-Robots-Tag:noindex
X-PUBLISHED-TTL:PT1H
BEGIN:VTIMEZONE
TZID:Europe/Berlin
BEGIN:DAYLIGHT
TZOFFSETFROM:+0100
TZOFFSETTO:+0200
TZNAME:CEST
DTSTART:20190331T010000
END:DAYLIGHT
BEGIN:STANDARD
TZOFFSETFROM:+0200
TZOFFSETTO:+0100
TZNAME:CET
DTSTART:20191027T010000
END:STANDARD
BEGIN:DAYLIGHT
TZOFFSETFROM:+0100
TZOFFSETTO:+0200
TZNAME:CEST
DTSTART:20200329T010000
END:DAYLIGHT
BEGIN:STANDARD
TZOFFSETFROM:+0200
TZOFFSETTO:+0100
TZNAME:CET
DTSTART:20201025T010000
END:STANDARD
BEGIN:DAYLIGHT
TZOFFSETFROM:+0100
TZOFFSETTO:+0200
TZNAME:CEST
DTSTART:20210328T010000
END:DAYLIGHT
BEGIN:STANDARD
TZOFFSETFROM:+0200
TZOFFSETTO:+0100
TZNAME:CET
DTSTART:20211031T010000
END:STANDARD
END:VTIMEZONE
BEGIN:VEVENT
DTSTART;TZID=Europe/Berlin:20200205T173000
DTEND;TZID=Europe/Berlin:20200205T200000
DTSTAMP:20260423T152555
CREATED:20191112T102256Z
LAST-MODIFIED:20200114T091306Z
UID:21727-1580923800-1580932800@www.pe-magazin.de
SUMMARY:30. Münchner Unternehmenssteuerforum
DESCRIPTION:Das Münchner Unternehmenssteuerforum widmet sich der Förderung des Steuerrechts\, insbesondere durch steuerwissenschaftliche Fachdiskussionen zwischen Repräsentanten der Richterschaft\, der Finanzverwaltung und der Wissenschaft sowie Experten aus der Wirtschaft und der steuer- und rechtsberatenden Berufe. \nDas nächste Münchner Unternehmenssteuerforum zum Thema \nSteuerliche Herausforderungen der Betriebsstätten im Mittelstand \nfindet am 5. Februar 2020 im Literaturhaus München statt. \nProgramm und Referenten\nDie derzeitigen internationalen Entwicklungen werden zu einer größeren Anzahl von Betriebsstätten (v.a. Dienstleistungs- und Vertreterbetriebsstätten) führen; auch im Mittelstand. Die unterschiedliche Handhabung der Gewinnzurechnung wird trotz des AOA mehr Rechtsunsicherheit bringen. Indien ist fern; Italien ist nah. \n17.30 Uhr EMPFANG \n17.45 Uhr GRUßWORT \nProf. Dr. Rudolf Mellinghoff (Präsident des Bundesfinanzhofs) \n18.00 Uhr AKTUELLE STEUERLICHE FRAGEN | Herausforderungen der Betriebsstätte (im Mittelstand) \nProf. Dr. Stefan Bendlinger (Partner der ICON Wirtschaftstreuhand GmbH) \nProf. Dr. Gerhard Girlich (Professor für Steuern und Rechnungswesen an der Hochschule Biberach) \nPODIUMSDISKUSSION \nProf. Dr. Hartmut Schwab (Präsident der Bundessteuerberaterkammer) \nDr. Christoph Habammer (Vizepräsident Bayerisches Landesamt für Steuern) \nModeration: Prof. Dr. Klaus-Dieter Drüen (Juristische Fakultät LMU München\, Richter am FG Düsseldorf) \n20.00 Uhr GELEGENHEIT ZUM PERSÖNLICHEN AUSTAUSCH BEI GETRÄNKEN UND SNACKS
URL:https://www.pe-magazin.de/termin/30-muenchner-unternehmenssteuerforum/
LOCATION:Literaturhaus München\, Salvatorplatz 1\, München\, Bayern\, 80331\, Deutschland
CATEGORIES:TAX
GEO:48.1418942;11.5748838
X-APPLE-STRUCTURED-LOCATION;VALUE=URI;X-ADDRESS=Literaturhaus München Salvatorplatz 1 München Bayern 80331 Deutschland;X-APPLE-RADIUS=500;X-TITLE=Salvatorplatz 1:geo:11.5748838,48.1418942
END:VEVENT
BEGIN:VEVENT
DTSTART;TZID=Europe/Berlin:20200225T080000
DTEND;TZID=Europe/Berlin:20200228T160000
DTSTAMP:20260423T152556
CREATED:20191101T104638Z
LAST-MODIFIED:20191101T110536Z
UID:21702-1582617600-1582905600@www.pe-magazin.de
SUMMARY:Super Return International 2020
DESCRIPTION:Super Return International ist die wegweisende Private Equity-Konferenz\, die jährlich mehr als 3.000 globale Private Equity-Entscheider anzieht\, darunter mehr als 1.000 LPs. Mit einem Programm\, das auf Networking – sowohl formell als auch informell – sowie auf qualitativ hochwertige Debatten und Vorträge ausgerichtet ist\, knüpfen Sie zahlreiche wertvolle Kontakte und führen großartige persönliche Gespräche mit Menschen\, die Sie treffen möchten. \nBitte besuchen Sie die Veranstaltungswebsite\, um die aktuelle Agenda zu sehen und sich online zu registrieren.
URL:https://www.pe-magazin.de/termin/super-return-international-2020/
LOCATION:Intercontinental Hotel Berlin\, Budapester Str. 2\, Berlin\, 10787
CATEGORIES:Investment Funds
GEO:52.50709;13.34553
X-APPLE-STRUCTURED-LOCATION;VALUE=URI;X-ADDRESS=Intercontinental Hotel Berlin Budapester Str. 2 Berlin 10787;X-APPLE-RADIUS=500;X-TITLE=Budapester Str. 2:geo:13.34553,52.50709
END:VEVENT
END:VCALENDAR