BEGIN:VCALENDAR
VERSION:2.0
PRODID:-//Private Equity Magazin - ECPv6.15.20//NONSGML v1.0//EN
CALSCALE:GREGORIAN
METHOD:PUBLISH
X-WR-CALNAME:Private Equity Magazin
X-ORIGINAL-URL:https://www.pe-magazin.de
X-WR-CALDESC:Events for Private Equity Magazin
REFRESH-INTERVAL;VALUE=DURATION:PT1H
X-Robots-Tag:noindex
X-PUBLISHED-TTL:PT1H
BEGIN:VTIMEZONE
TZID:Europe/Berlin
BEGIN:DAYLIGHT
TZOFFSETFROM:+0100
TZOFFSETTO:+0200
TZNAME:CEST
DTSTART:20200329T010000
END:DAYLIGHT
BEGIN:STANDARD
TZOFFSETFROM:+0200
TZOFFSETTO:+0100
TZNAME:CET
DTSTART:20201025T010000
END:STANDARD
BEGIN:DAYLIGHT
TZOFFSETFROM:+0100
TZOFFSETTO:+0200
TZNAME:CEST
DTSTART:20210328T010000
END:DAYLIGHT
BEGIN:STANDARD
TZOFFSETFROM:+0200
TZOFFSETTO:+0100
TZNAME:CET
DTSTART:20211031T010000
END:STANDARD
BEGIN:DAYLIGHT
TZOFFSETFROM:+0100
TZOFFSETTO:+0200
TZNAME:CEST
DTSTART:20220327T010000
END:DAYLIGHT
BEGIN:STANDARD
TZOFFSETFROM:+0200
TZOFFSETTO:+0100
TZNAME:CET
DTSTART:20221030T010000
END:STANDARD
END:VTIMEZONE
BEGIN:VEVENT
DTSTART;TZID=Europe/Berlin:20210623T173000
DTEND;TZID=Europe/Berlin:20210623T173000
DTSTAMP:20260423T164238
CREATED:20210215T074754Z
LAST-MODIFIED:20220524T093248Z
UID:24771-1624469400-1624469400@www.pe-magazin.de
SUMMARY:33. Münchner Unternehmenssteuerforum "Aktuelle Steuerrechtsreformen"
DESCRIPTION:Das Münchner Unternehmenssteuerforum widmet sich der Förderung des Steuerrechts\, insbesondere durch steuerwissenschaftliche Fachdiskussionen zwischen Repräsentanten der Richterschaft\, der Finanzverwaltung und der Wissenschaft sowie Experten aus der Wirtschaft und der steuer- und rechtsberatenden Berufe. \nDas nächste Münchner Unternehmenssteuerforum zum Thema \n„Aktuelle Steuerrechtsreformen – Von der Grunderwerbsteuer über das Personengesellschaftsrecht zum Optionsmodell“ \nfindet statt am \n23. Juni 2021\, 17.30 Uhr \n  \nWeitere Informationen zur Veranstaltung und zur Anmeldung finden Sie auf den Seiten des Veranstalters. 
URL:https://www.pe-magazin.de/termin/33-muenchner-unternehmenssteuerforum/
CATEGORIES:TAX
END:VEVENT
END:VCALENDAR