BEGIN:VCALENDAR
VERSION:2.0
PRODID:-//Private Equity Magazin - ECPv6.15.20//NONSGML v1.0//EN
CALSCALE:GREGORIAN
METHOD:PUBLISH
X-ORIGINAL-URL:https://www.pe-magazin.de
X-WR-CALDESC:Events for Private Equity Magazin
REFRESH-INTERVAL;VALUE=DURATION:PT1H
X-Robots-Tag:noindex
X-PUBLISHED-TTL:PT1H
BEGIN:VTIMEZONE
TZID:Europe/Berlin
BEGIN:DAYLIGHT
TZOFFSETFROM:+0100
TZOFFSETTO:+0200
TZNAME:CEST
DTSTART:20220327T010000
END:DAYLIGHT
BEGIN:STANDARD
TZOFFSETFROM:+0200
TZOFFSETTO:+0100
TZNAME:CET
DTSTART:20221030T010000
END:STANDARD
BEGIN:DAYLIGHT
TZOFFSETFROM:+0100
TZOFFSETTO:+0200
TZNAME:CEST
DTSTART:20230326T010000
END:DAYLIGHT
BEGIN:STANDARD
TZOFFSETFROM:+0200
TZOFFSETTO:+0100
TZNAME:CET
DTSTART:20231029T010000
END:STANDARD
BEGIN:DAYLIGHT
TZOFFSETFROM:+0100
TZOFFSETTO:+0200
TZNAME:CEST
DTSTART:20240331T010000
END:DAYLIGHT
BEGIN:STANDARD
TZOFFSETFROM:+0200
TZOFFSETTO:+0100
TZNAME:CET
DTSTART:20241027T010000
END:STANDARD
END:VTIMEZONE
BEGIN:VEVENT
DTSTART;TZID=Europe/Berlin:20230227T173000
DTEND;TZID=Europe/Berlin:20230227T193000
DTSTAMP:20260419T192901
CREATED:20220826T074255Z
LAST-MODIFIED:20230127T104005Z
UID:27526-1677519000-1677526200@www.pe-magazin.de
SUMMARY:86. Berliner Steuergespräche "Auswirkungen der Inflation auf das Steuerrecht"
DESCRIPTION:Die derzeit höchste Inflationsrate seit 40 Jahren belastet den Bürger in erheblichem Maße. Das gilt nicht nur für die allgemeine Steigerung des Preisniveaus. Sinkende Kaufkraft führt bei nominal gleichbleibender Steuerlast zu einer zusätzlichen finanziellen Belastung. Durch die Inflation wird sukzessive die ursprüngliche Belastungsentscheidung des Gesetzgebers verändert. Je höher die Inflationsrate ansteigt\, desto schwächer wird die demokratische Legitimation der Steuergesetze. Das gilt jedenfalls solange\, wie die Rechtslage nicht an die veränderten Bedingungen angepasst wird. Es drohen kalte Progression sowie die Besteuerung von Scheingewinnen\, womit nicht zuletzt die damit zusammenhängende Problematik möglicher Zugriffe auf die Vermögenssubstanz angesprochen ist. Ganz grundsätzlich stellt sich die Frage\, wie das Steuerrecht auf veränderte Umstände reagiert und ob es vor dem Hintergrund dieser Veränderungen verfassungsrechtlich Bestand hat. \nEine erste Reaktion erfolgt nunmehr durch das Inflationsausgleichsgesetz. Aktualisiert werden u.a. der Einkommensteuertarif\, der Grundfreibetrag\, der Kinderfreibetrag sowie das Kindergeld. Das Thema der inflationsbedingten Auswirkungen auf das Steuerrecht hat daneben noch weitere Dimensionen. Muss für steuerliche Zwecke ein „Wert“ ermittelt werden\, kann sich das Recht vor der ökonomischen Wirklichkeit nicht verschließen. Geldentwertung betrifft damit immer auch die Herausforderung\, die Besteuerung realitätsgerecht und handhabbar zu gestalten. Besonders deutlich wird das bei der aktuellen Erhöhung der Vermögenswerte für Immobilien\, die zu einer Steigerung insbesondere der Erbschaftsteuer führen wird. \nDie 86. Berliner Steuergespräche\n„Auswirkungen der Inflation auf das Steuerrecht“\nfinden statt am \n27. Februar 2023\, 17.30 bis 19.30 Uhr. \nReferenten und Podium\nREFERENTEN:\nProf. Dr. Jochen Hundsdoerfer | FU Berlin\nProf. Dr. Christian Waldhoff | HU Berlin \nPODIUM:\nUniv.-Prof. DDr. Gunter Mayr | SektChef BMF AT\nDr. Arno Diekmann | Bundesministerium für Finanzen\nDr. Andreas Richter | POELLATH \nGESPRÄCHSLEITUNG:\nProf. Dr. Roman Seer | Ruhr Universität Bochum \nWeitere Informationen zum Veranstaltungsformat finden Sie auf den Seiten des Veranstalters.
URL:https://www.pe-magazin.de/termin/86-berliner-steuergespraeche/
LOCATION:Haus der Deutschen Wirtschaft\, Breite Straße 29\, Berlin\, 10178
CATEGORIES:TAX
GEO:52,5151126;13,4052402
X-APPLE-STRUCTURED-LOCATION;VALUE=URI;X-ADDRESS=Haus der Deutschen Wirtschaft Breite Straße 29 Berlin 10178;X-APPLE-RADIUS=500;X-TITLE=Breite Straße 29:geo:13,4052402,52,5151126
END:VEVENT
END:VCALENDAR