BEGIN:VCALENDAR
VERSION:2.0
PRODID:-//Private Equity Magazin - ECPv6.15.20//NONSGML v1.0//EN
CALSCALE:GREGORIAN
METHOD:PUBLISH
X-ORIGINAL-URL:https://www.pe-magazin.de
X-WR-CALDESC:Events for Private Equity Magazin
REFRESH-INTERVAL;VALUE=DURATION:PT1H
X-Robots-Tag:noindex
X-PUBLISHED-TTL:PT1H
BEGIN:VTIMEZONE
TZID:Europe/Berlin
BEGIN:DAYLIGHT
TZOFFSETFROM:+0100
TZOFFSETTO:+0200
TZNAME:CEST
DTSTART:20220327T010000
END:DAYLIGHT
BEGIN:STANDARD
TZOFFSETFROM:+0200
TZOFFSETTO:+0100
TZNAME:CET
DTSTART:20221030T010000
END:STANDARD
BEGIN:DAYLIGHT
TZOFFSETFROM:+0100
TZOFFSETTO:+0200
TZNAME:CEST
DTSTART:20230326T010000
END:DAYLIGHT
BEGIN:STANDARD
TZOFFSETFROM:+0200
TZOFFSETTO:+0100
TZNAME:CET
DTSTART:20231029T010000
END:STANDARD
BEGIN:DAYLIGHT
TZOFFSETFROM:+0100
TZOFFSETTO:+0200
TZNAME:CEST
DTSTART:20240331T010000
END:DAYLIGHT
BEGIN:STANDARD
TZOFFSETFROM:+0200
TZOFFSETTO:+0100
TZNAME:CET
DTSTART:20241027T010000
END:STANDARD
END:VTIMEZONE
BEGIN:VEVENT
DTSTART;VALUE=DATE:20230317
DTEND;VALUE=DATE:20230319
DTSTAMP:20260419T175949
CREATED:20230210T145831Z
LAST-MODIFIED:20230210T145831Z
UID:28036-1679011200-1679183999@www.pe-magazin.de
SUMMARY:Invest Stuttgart
DESCRIPTION:Die Invest – Leitmesse und Kongress für Finanzen und Geldanlage – ist die größte Veranstaltung im deutschsprachigen Raum rund um Anlagethemen. Hier treffen AusstellerInnen auf private Anlegende\, Bankberatende\, Vermögensverwaltende\, MaklerInnen und DienstleisterInnen aus der Finanzwelt. Der lebendige Marktplatz der Finanzmesse mit zahlreichen Ausstellenden in der Halle und die Messe Grünes Geld bieten als Informationsplattformen den direkten Austausch mit hochkarätigen und bekannten FinanzexpertInnen. Parallel finden im ICS spannende Themenveranstaltungen statt. \nWeitere Informationen zur Veranstaltung finden Sie auf den Seiten des Veranstalters.
URL:https://www.pe-magazin.de/termin/invest-stuttgart/
LOCATION:Messe Stuttgart\, Messepiazza 1\, Stuttgart\, 70629
CATEGORIES:Investment Funds
END:VEVENT
BEGIN:VEVENT
DTSTART;VALUE=DATE:20230320
DTEND;VALUE=DATE:20230324
DTSTAMP:20260419T175949
CREATED:20221205T162418Z
LAST-MODIFIED:20221205T162418Z
UID:27831-1679270400-1679615999@www.pe-magazin.de
SUMMARY:Infrastructure Investor Global Summit 2023
DESCRIPTION:Der Infrastructure Investor Global Summit bringt das „Who is Who“ der Infrastrukturbranche für vier Tage in Berlin zusammen. Treffen Sie die weltweit führenden institutionellen Investoren\, die aktiv in Infrastruktur investieren\, und diskutieren Sie die aktuellen Trends der Branche. \nInfrastructure Investor Global Summit\n20. bis 23. März 2023\nHilton\, Berlin \nWeitere Infos zur Veranstaltung
URL:https://www.pe-magazin.de/termin/infrastructure-investor-global-summit-2023/
LOCATION:Hilton Berlin\, Mohrenstr. 30\, Berlin\, 10117
CATEGORIES:M&A/Private Equity,Investment Funds
END:VEVENT
BEGIN:VEVENT
DTSTART;TZID=Europe/Berlin:20230330T140000
DTEND;TZID=Europe/Berlin:20230330T230000
DTSTAMP:20260419T175949
CREATED:20230210T093733Z
LAST-MODIFIED:20230220T112747Z
UID:28033-1680184800-1680217200@www.pe-magazin.de
SUMMARY:BVK-Fachforum und BVK-Night
DESCRIPTION:Das Fachforum des Bundesverbands Deutscher Kapitalbeteiligungsgesellschaften bietet eine Plattform\, um sich mit Experten auszutauschen und gemeinsam mit den anderen Mitgliedern die aktuellen Themen\, Herausforderungen und Perspektiven für die Beteiligungsbranche zu diskutieren. \nBei der anschließenden Abendveranstaltung BVK-Night ist zudem Platz für aktives Networking. \nDas BVK-Fachforum sowie die BVK-Night finden statt am \n30. März 2023 in Berlin\,\n14.00 bis 17.30 Uhr bzw. 18.30 bis 23.00 Uhr. \nAgenda\nab 14.00 Uhr: Networking & Registrierung \nAnlegestelle Friedrichstraße (Weidendammer Brücke)\, 10117 Berlin \n14.45-15.30 Uhr \nAbfahrt: Anlegestelle Friedrichstraße (Weidendammer Brücke)\, 10117 Berlin \nAnkunft: Anlegestelle Alt-Moabit 91\, 10559 Berlin (Zustieg ist hier jederzeit möglich) \n15.00 Uhr: Beginn des Fachforum-Programms \nBegrüßung und Moderation \nFrank Hüther │ Sprecher des BVK-Vorstandes und Geschäftsführer\, Abacus alpha \nVorstellung der Kandidaten für die Wahl der BVK-Vorstandsmitglieder im Rahmen der Mitgliederversammlung 2023 \nPolitik-Update: Aktuelle Themen und Schwerpunkte der politischen Verbandsarbeit \nUlrike Hinrichs | Geschäftsführendes Vorstandsmitglied\, BVK \nPanel: Ein moderner Rechtsrahmens für Mitarbeiterkapitalbeteiligungen \nModeration: Mathias Renz\, Venture Capital Magazin \nKatja Hessel MdB | FDP\, Parlamentarische Staatssekretärin\, Bundesministerium der Finanzen (angefragt) \nMarkus Solibieda | Geschäftsführer\, BASF Venture Capital \nChristian Schatz | Partner\, Flick Gocke Schaumburg \nPanel: Quo vadis – Frauen in der PE-/VC-Branche \nModeration: Ulrike Hinrichs | Geschäftsführendes Vorstandsmitglied\, BVK \nDr. Franziska Brantner MdB | Bündnis 90/Die Grünen\, Parlamentarische Staatssekretärin im BMWK (angefragt) \nInna Gehrt | Managing Partner\, Mindful Capital Partners \nBritta Lindhorst | Geschäftsführerin\, HQ Capital \nDr. Isabelle Canu |Partner\, MVP Munich Venture Partners \n17.40 Uhr: Ende des Fachforums \nAb 18.30 Uhr: BVK-CruiseNight \nAbfahrt: Anlegestelle Alt-Moabit 91\, 10559 Berlin \nZu-/Ausstiege: 19.15-19.30 Uhr\, 20.00-20.15 Uhr und 21.00-21.15 Uhr\, Anlegestelle Friedrichstraße (Weidendammer Brücke)\, 10117 Berlin \nFür die BVK Cruise Night ist eine separate kostenpflichtige Anmeldung notwendig. Weitere Informationen erhalten Sie auch auf den Seiten des Veranstalters.
URL:https://www.pe-magazin.de/termin/bvk-fachforum-und-bvk-night/
LOCATION:Wird bald bekanntgegeben / To be confirmed shortly
CATEGORIES:M&A/Private Equity,Investment Funds,Venture Capital & Co.
ORGANIZER;CN="BVK e.V.":MAILTO:bvk@bvkap.de
END:VEVENT
END:VCALENDAR