BEGIN:VCALENDAR
VERSION:2.0
PRODID:-//Private Equity Magazin - ECPv6.15.20//NONSGML v1.0//EN
CALSCALE:GREGORIAN
METHOD:PUBLISH
X-ORIGINAL-URL:https://www.pe-magazin.de
X-WR-CALDESC:Events for Private Equity Magazin
REFRESH-INTERVAL;VALUE=DURATION:PT1H
X-Robots-Tag:noindex
X-PUBLISHED-TTL:PT1H
BEGIN:VTIMEZONE
TZID:Europe/Berlin
BEGIN:DAYLIGHT
TZOFFSETFROM:+0100
TZOFFSETTO:+0200
TZNAME:CEST
DTSTART:20220327T010000
END:DAYLIGHT
BEGIN:STANDARD
TZOFFSETFROM:+0200
TZOFFSETTO:+0100
TZNAME:CET
DTSTART:20221030T010000
END:STANDARD
BEGIN:DAYLIGHT
TZOFFSETFROM:+0100
TZOFFSETTO:+0200
TZNAME:CEST
DTSTART:20230326T010000
END:DAYLIGHT
BEGIN:STANDARD
TZOFFSETFROM:+0200
TZOFFSETTO:+0100
TZNAME:CET
DTSTART:20231029T010000
END:STANDARD
BEGIN:DAYLIGHT
TZOFFSETFROM:+0100
TZOFFSETTO:+0200
TZNAME:CEST
DTSTART:20240331T010000
END:DAYLIGHT
BEGIN:STANDARD
TZOFFSETFROM:+0200
TZOFFSETTO:+0100
TZNAME:CET
DTSTART:20241027T010000
END:STANDARD
END:VTIMEZONE
BEGIN:VEVENT
DTSTART;VALUE=DATE:20230424
DTEND;VALUE=DATE:20230427
DTSTAMP:20260419T163616
CREATED:20221205T163208Z
LAST-MODIFIED:20221205T163208Z
UID:27838-1682294400-1682553599@www.pe-magazin.de
SUMMARY:BAI Alternative Investor Conference (AIC) 2023
DESCRIPTION:Die Branchenkonferenz rund um das Thema Alternative Investments bietet Fachvorträge\, Key-note Speeches und Paneldiskussionen u.a. aus den Bereichen strategische Assetallokation und Risikomanagement in Zeiten von Inflation\, ESG & Regulierung\, Private Markets und Geopolitische Risiken und deren Auswirkungen. \nBAI Alternative Investor Conference 2023\n24. bis 26. April 2023\nKap Europa\, Frankfurt am Main \nWeitere Infos zur Veranstaltung
URL:https://www.pe-magazin.de/termin/bai-alternative-investor-conference-aic-2023/
LOCATION:Kap Europa Frankfurt\, Osloer Str. 5\, Frankfurt am Main\, 60327
CATEGORIES:M&A/Private Equity,Investment Funds
GEO:50.1128364;8.6412885
X-APPLE-STRUCTURED-LOCATION;VALUE=URI;X-ADDRESS=Kap Europa Frankfurt Osloer Str. 5 Frankfurt am Main 60327;X-APPLE-RADIUS=500;X-TITLE=Osloer Str. 5:geo:8.6412885,50.1128364
END:VEVENT
END:VCALENDAR