BEGIN:VCALENDAR
VERSION:2.0
PRODID:-//Private Equity Magazin - ECPv6.15.20//NONSGML v1.0//EN
CALSCALE:GREGORIAN
METHOD:PUBLISH
X-WR-CALNAME:Private Equity Magazin
X-ORIGINAL-URL:https://www.pe-magazin.de
X-WR-CALDESC:Events for Private Equity Magazin
REFRESH-INTERVAL;VALUE=DURATION:PT1H
X-Robots-Tag:noindex
X-PUBLISHED-TTL:PT1H
BEGIN:VTIMEZONE
TZID:Europe/Berlin
BEGIN:DAYLIGHT
TZOFFSETFROM:+0100
TZOFFSETTO:+0200
TZNAME:CEST
DTSTART:20220327T010000
END:DAYLIGHT
BEGIN:STANDARD
TZOFFSETFROM:+0200
TZOFFSETTO:+0100
TZNAME:CET
DTSTART:20221030T010000
END:STANDARD
BEGIN:DAYLIGHT
TZOFFSETFROM:+0100
TZOFFSETTO:+0200
TZNAME:CEST
DTSTART:20230326T010000
END:DAYLIGHT
BEGIN:STANDARD
TZOFFSETFROM:+0200
TZOFFSETTO:+0100
TZNAME:CET
DTSTART:20231029T010000
END:STANDARD
BEGIN:DAYLIGHT
TZOFFSETFROM:+0100
TZOFFSETTO:+0200
TZNAME:CEST
DTSTART:20240331T010000
END:DAYLIGHT
BEGIN:STANDARD
TZOFFSETFROM:+0200
TZOFFSETTO:+0100
TZNAME:CET
DTSTART:20241027T010000
END:STANDARD
END:VTIMEZONE
BEGIN:VEVENT
DTSTART;TZID=Europe/Berlin:20230504T180000
DTEND;TZID=Europe/Berlin:20230504T200000
DTSTAMP:20260419T150811
CREATED:20221205T163820Z
LAST-MODIFIED:20221205T163820Z
UID:27840-1683223200-1683230400@www.pe-magazin.de
SUMMARY:26. Münchner M&A-Forum
DESCRIPTION:Das Münchner M&A Forum (MMA) bietet eine Plattform für Vorträge und Diskussionen über aktuelle wirtschaftliche und rechtliche Entwicklungen und deren Auswirkungen auf M&A-Transaktionen. MMA freut sich als unabhängiger Veranstalter\, Verantwortliche aus Unternehmen\, Kanzleien\, Beratungs­gesellschaften\, der Justiz und der öffentlichen Verwaltung begrüßen zu dürfen. \nDas 26. Münchner M&A-Forum findet statt am\n04. Mai 2023 im Literaturhaus München. \nWeitere Infos zur Veranstaltung
URL:https://www.pe-magazin.de/termin/26-muenchner-ma-forum/
LOCATION:Literaturhaus München\, Salvatorplatz 1\, München\, Bayern\, 80331\, Deutschland
CATEGORIES:M&A/Private Equity
GEO:48.1418942;11.5748838
X-APPLE-STRUCTURED-LOCATION;VALUE=URI;X-ADDRESS=Literaturhaus München Salvatorplatz 1 München Bayern 80331 Deutschland;X-APPLE-RADIUS=500;X-TITLE=Salvatorplatz 1:geo:11.5748838,48.1418942
END:VEVENT
BEGIN:VEVENT
DTSTART;TZID=Europe/Berlin:20230525T100000
DTEND;TZID=Europe/Berlin:20230525T180000
DTSTAMP:20260419T150811
CREATED:20221205T165213Z
LAST-MODIFIED:20230505T081127Z
UID:27842-1685008800-1685037600@www.pe-magazin.de
SUMMARY:24. Deutscher Eigenkapitaltag
DESCRIPTION:Der Bundesverband Beteiligungskapital (BVK) veranstaltet jährlich das größte Treffen der deutschsprachigen Beteiligungskapitalbranche. Beim Deutschen Eigenkapitaltag erwarten Sie führende Persönlichkeiten aus der Branche\, Politik\, Medien\, Wirtschaft und Wissenschaft sowie ein interessantes Programm und einzigartige Möglichkeiten für Networking und Austausch. \nDer 24. Deutsche Eigenkapitaltag findet statt \nam 25. Mai 2023 \nin Berlin.  \nDie Veranstaltung unter dem Motto „Für die unternehmerische Zukunft Deutschlands“ richtet sich an Vertreter der Private Equity und Venture Capital Branche sowie das gesamte Umfeld des Deutschen Beteiligungsmarktes\, einschließlich des Mittelstands und der Start-ups. \nAnmeldung und weitere Informationen zum Event\nFür weitere Infos und Ihre Registrierung nutzen Sie bitte die Anmeldeseite des Veranstalters. \n 
URL:https://www.pe-magazin.de/termin/24-deutscher-eigenkapitaltag/
LOCATION:Deutsche Telekom Hauptstadtrepräsentanz Berlin\, Französische Str. 33a-c\, Berlin\, 10117\, Deutschland
CATEGORIES:M&A/Private Equity,Investment Funds,Venture Capital & Co.
ORGANIZER;CN="BVK e.V.":MAILTO:bvk@bvkap.de
GEO:52.51499;13.39555
X-APPLE-STRUCTURED-LOCATION;VALUE=URI;X-ADDRESS=Deutsche Telekom Hauptstadtrepräsentanz Berlin Französische Str. 33a-c Berlin 10117 Deutschland;X-APPLE-RADIUS=500;X-TITLE=Französische Str. 33a-c:geo:13.39555,52.51499
END:VEVENT
END:VCALENDAR