BEGIN:VCALENDAR
VERSION:2.0
PRODID:-//Private Equity Magazin - ECPv6.15.20//NONSGML v1.0//EN
CALSCALE:GREGORIAN
METHOD:PUBLISH
X-ORIGINAL-URL:https://www.pe-magazin.de
X-WR-CALDESC:Events for Private Equity Magazin
REFRESH-INTERVAL;VALUE=DURATION:PT1H
X-Robots-Tag:noindex
X-PUBLISHED-TTL:PT1H
BEGIN:VTIMEZONE
TZID:Europe/Berlin
BEGIN:DAYLIGHT
TZOFFSETFROM:+0100
TZOFFSETTO:+0200
TZNAME:CEST
DTSTART:20220327T010000
END:DAYLIGHT
BEGIN:STANDARD
TZOFFSETFROM:+0200
TZOFFSETTO:+0100
TZNAME:CET
DTSTART:20221030T010000
END:STANDARD
BEGIN:DAYLIGHT
TZOFFSETFROM:+0100
TZOFFSETTO:+0200
TZNAME:CEST
DTSTART:20230326T010000
END:DAYLIGHT
BEGIN:STANDARD
TZOFFSETFROM:+0200
TZOFFSETTO:+0100
TZNAME:CET
DTSTART:20231029T010000
END:STANDARD
BEGIN:DAYLIGHT
TZOFFSETFROM:+0100
TZOFFSETTO:+0200
TZNAME:CEST
DTSTART:20240331T010000
END:DAYLIGHT
BEGIN:STANDARD
TZOFFSETFROM:+0200
TZOFFSETTO:+0100
TZNAME:CET
DTSTART:20241027T010000
END:STANDARD
END:VTIMEZONE
BEGIN:VEVENT
DTSTART;VALUE=DATE:20230914
DTEND;VALUE=DATE:20231124
DTSTAMP:20260419T164311
CREATED:20230306T104621Z
LAST-MODIFIED:20230306T104621Z
UID:28165-1694649600-1700783999@www.pe-magazin.de
SUMMARY:M&A-Lehrgang 2023
DESCRIPTION:Der Lehrgang vermittelt in 10 Modulen die Grundlagen für eine erfolgreiche Durchführung von M&A-Transaktionen. Expertinnen und Experten verschiedenster Fachbereiche werden den Teilnehmenden durch einen interdisziplinären Austausch ein abgerundetes Bild der aktuellen Transaktionspraxis bieten. \nEr richtet sich in erster Linie an Berufsträgerinnen und Berufsträger mit bis zu drei Jahren Berufserfahrung aus allen Bereichen der M&A-Praxis (Private Equity-Fonds\, Unternehmen\, Banken\, Corporate Finance-Berater). Aber auch Interessierte\, die bereits über Erfahrungen in M&A-Transaktionen verfügen\, können hier ihre Kenntnisse in einzelnen Bereichen erweitern. \nDer M&A-Lehrgang 2023 findet statt vom\n14. September bis 23. November 2023\njeweils donnerstags von 17 bis 20 Uhr \nbei POELLATH in München \nDie einzelnen Module im Überblick\nModul 1 am 14.09.2023: Ablauf von M&A-Transaktionen und Vorfeldvereinbarungen\nIm ersten Modul wird der typische prozedurale und zeitliche Ablauf von M&A-Transaktionen\, von der ersten Kontaktaufnahme zwischen dem Verkäufer und seinen Beratern bis zu dem Vollzug der Transaktion\, dargestellt. \nModul 2 am 21.09.2023: Steuerplanung aus Verkäufer- und Käufersicht\nIn diesem Modul wird der Unternehmenskauf aus steuerlicher Sicht betrachtet. Da die steuerlichen Effekte unmittelbar kaufpreisrelevant sind\, ist die Steuerplanung aus Verkäufer- wie aus Käufersicht von entscheidender Bedeutung. \nModul 3 am 28.09.2023: Financial\, Legal und Tax Due Diligence\nDas dritte Modul des Lehrgangs beschäftigt sich mit der Vorbereitung und Durchführung von Due Diligence-Prüfungen auf Käufer- und Verkäuferseite. \nModul 4 am 05.10.2023: Unternehmenskaufvertrag\nDer Unternehmenskaufvertrag ist das zentrale Element jeder M&A-Transaktion. In ihm wird der Kaufgegenstand identifiziert\, der Kaufpreis festgelegt und werden die Risiken zwischen Verkäufer und Käufer verteilt. \nModul 5 am 12.10.2023: Unternehmensbewertung und Kaufpreis\nIn diesem Teil des Lehrgangs werden zunächst die Grundlagen und die verschiedenen Verfahren der Unternehmensbewertung erläutert. \nModul 6 am 19.10.2023: Minderheits- und Mehrheitsbeteiligungen\nIn diesem Teil des Lehrgangs werden Besonderheiten beim Erwerb von Mehrheits- und Minderheitsbeteiligungen erläutert. Zentrales Element ist hierbei die Gesellschaftervereinbarung zwischen dem Erwerber und seinen künftigen Mitgesellschaftern. \nModul 7 am 26.10.2023: Distressed M&A\nIn diesem Modul werden die Besonderheiten des Unternehmenskaufs aus Krise und Insolvenz behandelt. \nModul 8 am 09.11.2023: Managementbeteiligungen\nDie Beteiligung des Managements am wirtschaftlichen Erfolg eines Unternehmens gehört heute zu den üblichen Werkzeugen zur Steigerung des Unternehmenswertes. \nModul 9 am 16.11.2023: Akquisitionsfinanzierung | Kartellrecht und Investitionskontrolle\nDie Finanzierung des Kaufpreises durch Eigen- und Fremdkapital ist ein weiteres zentrales Element des Unternehmenskaufs. Anschließend werden die kartellrechtlichen und investitionskontrollrechtlichen Vorgaben für M&A-Transaktionen erläutert. \nModul 10 am 23.11.2023: Public M&A\nDie Strategien und rechtliche Umsetzung der Übernahme eines börsennotierten Unternehmens werden im zehnten Teil des Lehrgangs vorgestellt. \nAlle Module können auch einzeln gebucht werden. Weitere Informationen zur Veranstaltung und zur Anmeldung finden Sie hier.
URL:https://www.pe-magazin.de/termin/ma-lehrgang-2023/
LOCATION:POELLATH in München\, Hofstatt 1 (Eingang Färbergraben 16)\, München\, Bayern\, 80331\, Deutschland
CATEGORIES:M&A/Private Equity
ORGANIZER;CN="P+ Training GmbH":MAILTO:info@pptraining.de
GEO:48.1367971;11.5717277
X-APPLE-STRUCTURED-LOCATION;VALUE=URI;X-ADDRESS=POELLATH in München Hofstatt 1 (Eingang Färbergraben 16) München Bayern 80331 Deutschland;X-APPLE-RADIUS=500;X-TITLE=Hofstatt 1 (Eingang Färbergraben 16):geo:11.5717277,48.1367971
END:VEVENT
BEGIN:VEVENT
DTSTART;TZID=Europe/Berlin:20231107T180000
DTEND;TZID=Europe/Berlin:20231107T200000
DTSTAMP:20260419T164311
CREATED:20230905T085600Z
LAST-MODIFIED:20231025T125634Z
UID:28944-1699380000-1699387200@www.pe-magazin.de
SUMMARY:27. Münchner M&A-Forum
DESCRIPTION:Das Münchner M&A-Forum (MMA) bietet eine Plattform für Vorträge und Diskussionen über aktuelle wirtschaftliche und rechtliche Entwicklungen und deren Auswirkungen auf M&A-Transaktionen. MMA freut sich als unabhängiger Veranstalter\, Verantwortliche aus Unternehmen\, Kanzleien\, Beratungs­gesellschaften\, der Justiz und der öffentlichen Verwaltung begrüßen zu dürfen. \nDas 27. Münchner M&A-Forum (MMA) zum Thema\n„Streitiger Unternehmenskauf im Schiedsverfahren“\nfindet statt am\n07. November 2023\, 18 bis 20 Uhr im Literaturhaus München.  \nBegrüßung\nDr. Oliver Thurn\, CMS\, München \nEinführungsvortrag\nRelevanz von Schiedsvereinbarungen in Unternehmenskaufverträgen\nDr. Armin Dürrschmidt\, CMS\, München \nPaneldiskussion\nTypische Streitthemen in Post-M&A-Auseinandersetzungen; Vertrauenshaftung – Kaufpreisanpassung – Garantien – Schaden\nDr. Jennifer Bryant\, Noerr\, Düsseldorf\nDr. Armin Dürrschmidt\, CMS\, München\nBenno Jacke\, Value Trust\, Frankfurt am Main\nDr. Viola Sailer-Coceani\, Hengeler Mueller\, München \nDiskussionsleitung: Dr. Matthias Bruse\, POELLATH\, München \nWeitere Informationen zur Veranstaltung finden Sie hier.
URL:https://www.pe-magazin.de/termin/27-muenchner-ma-forum/
LOCATION:Literaturhaus München\, Salvatorplatz 1\, München\, Bayern\, 80331\, Deutschland
CATEGORIES:M&A/Private Equity
GEO:48.1418942;11.5748838
X-APPLE-STRUCTURED-LOCATION;VALUE=URI;X-ADDRESS=Literaturhaus München Salvatorplatz 1 München Bayern 80331 Deutschland;X-APPLE-RADIUS=500;X-TITLE=Salvatorplatz 1:geo:11.5748838,48.1418942
END:VEVENT
END:VCALENDAR