BEGIN:VCALENDAR
VERSION:2.0
PRODID:-//Private Equity Magazin - ECPv6.15.20//NONSGML v1.0//EN
CALSCALE:GREGORIAN
METHOD:PUBLISH
X-WR-CALNAME:Private Equity Magazin
X-ORIGINAL-URL:https://www.pe-magazin.de
X-WR-CALDESC:Events for Private Equity Magazin
REFRESH-INTERVAL;VALUE=DURATION:PT1H
X-Robots-Tag:noindex
X-PUBLISHED-TTL:PT1H
BEGIN:VTIMEZONE
TZID:Europe/Berlin
BEGIN:DAYLIGHT
TZOFFSETFROM:+0100
TZOFFSETTO:+0200
TZNAME:CEST
DTSTART:20230326T010000
END:DAYLIGHT
BEGIN:STANDARD
TZOFFSETFROM:+0200
TZOFFSETTO:+0100
TZNAME:CET
DTSTART:20231029T010000
END:STANDARD
BEGIN:DAYLIGHT
TZOFFSETFROM:+0100
TZOFFSETTO:+0200
TZNAME:CEST
DTSTART:20240331T010000
END:DAYLIGHT
BEGIN:STANDARD
TZOFFSETFROM:+0200
TZOFFSETTO:+0100
TZNAME:CET
DTSTART:20241027T010000
END:STANDARD
BEGIN:DAYLIGHT
TZOFFSETFROM:+0100
TZOFFSETTO:+0200
TZNAME:CEST
DTSTART:20250330T010000
END:DAYLIGHT
BEGIN:STANDARD
TZOFFSETFROM:+0200
TZOFFSETTO:+0100
TZNAME:CET
DTSTART:20251026T010000
END:STANDARD
END:VTIMEZONE
BEGIN:VEVENT
DTSTART;TZID=Europe/Berlin:20240305T090000
DTEND;TZID=Europe/Berlin:20240305T180000
DTSTAMP:20260422T230100
CREATED:20240115T105825Z
LAST-MODIFIED:20240115T105840Z
UID:29456-1709629200-1709661600@www.pe-magazin.de
SUMMARY:2. BAI Private Debt Symposium
DESCRIPTION:Ob Lower Mid-Market\, Upper Mid-Market oder das Marktsegment der Large-Cap-Unternehmen: Ein Engagement in allen drei Märkten ist aus Diversifikations- und Marktchancensicht angebracht. Entsprechend breit diversifiziert ist erneut die Agenda des Private Debt Symposiums. Chancen und Herausforderungen in Sub-Assetklassen und Industrien werden beleuchtet. Neben opportunistischen Kreditstrategien und Credit Specialties werfen wir einen Blick auf Spannungsfelder im Markt zwischen Banken und Debt-Fonds\, Herausforderungen für Investoren und steigende konjunkturelle Risikofaktoren. Auch Expertenvorträge rund um Real Estate Debt und Infrastruktur Debt dürfen auf der Agenda nicht fehlen. Zwei parallel stattfindende Sessions bieten den Gästen eine optimale Angebotsauswahl an Fachvorträgen und Paneldiskussionen. Zielgruppe sind institutionelle Investoren sowie Unternehmen aus dem BAI-Mitgliedskreis und der Asset-Management-Branche. \nHier geht’s zum kompletten Programm \nHier geht’s zur Anmeldung
URL:https://www.pe-magazin.de/termin/2-bai-private-debt-symposium/
LOCATION:Hotel Scandic Hafenpark Frankfurt\, Eytelweinstraße 1\, Frankfurt\, Hessen\, 60314\, Deutschland
CATEGORIES:Investment Funds
END:VEVENT
BEGIN:VEVENT
DTSTART;TZID=Europe/Berlin:20240312T103000
DTEND;TZID=Europe/Berlin:20240312T173000
DTSTAMP:20260422T230100
CREATED:20240130T090257Z
LAST-MODIFIED:20240226T180634Z
UID:29524-1710239400-1710264600@www.pe-magazin.de
SUMMARY:Seminar "Das reformierte Stiftungsrecht und aktuelle Gestaltungsoptionen"
DESCRIPTION:Stiftungen boomen seit Längerem\, vor allem die gemeinnützigen. In den vergangenen Jahren ist eine Renaissance der Familienstiftungen im Rahmen von Vermögensnachfolgen hinzugekommen. Oft besteht das wesentliche Vermögen dieser neuen Familienstiftungen in einem Familienunternehmen. Diese Entwicklung hat den Gesetzgeber bewogen\, die umfassendste Reform des Stiftungsrechts seit Langem zum 1. Juli 2023 auf den Weg zu bringen. Was sich geändert hat\, was das für bestehende Stiftungen bedeutet und wo aktuell Stiftungen zum Einsatz kommen\, zeigt das Seminar „Das reformierte Stiftungsrecht und aktuelle Gestaltungsoptionen“. \nProgramm\nVormittag: Reform und internationales Stiftungsrecht\n10.30 Uhr: Empfang und Registrierung\n11.00 Uhr: Vorstellung der 2. Auflage des im Beck Verlag erschienenen Handbuchs Stiftungsrecht\nDr. Katharina Gollan | POELLATH\n11.15 Uhr: Überblick über die Stiftungsrechtsreform\nDr. Katharina Gollan | POELLATH\n11.45 Uhr: Zur Mobilität von Stiftungen: was gilt\, wenn Stiftungen Ländergrenzen überschreiten?\nDr. Marcus Niermann | POELLATH \n12.15 Uhr: Steuerliche Brennpunkte der grenzüberschreitenden Vermögensnachfolge mit Stiftungen\nDr. Marcus Niermann | POELLATH\n12.45 Uhr: Diskussion zu den beiden letzten Vorträgen\n13.00 Uhr: Mittagspause \nNachmittag Teil I: Gestaltungsoptionen mit Familienstiftungen\n14.00 Uhr: Familienstiftungen als Schutz gegen die verschärfte Wegzugsbesteuerung\nDr. Maximilian Haag | POELLATH\n14.30 Uhr: Einsatzmöglichkeiten von Familienstiftungen im aktuellen Erbschaftsteuerrecht der Unternehmensnachfolge\nDr. Laurenz Lipp | POELLATH\n15.00 Uhr: Diskussion zu beiden Vorträgen\n15.15 Uhr: Kaffeepause \nNachmittag Teil II: Governance von Stiftungen\n15.45 Uhr: Satzungsänderungen nach neuem Recht\nDr. Andreas Richter | POELLATH\nJoshua Fisher | POELLATH\n16.15 Uhr: Vermögenserhaltung nach neuem Recht\nDr. Fabian Schmitt | POELLATH\nKommentar: WP Stephan Römer | RBT Treuhand\n16.45 Uhr: Streitvermeidung durch Satzungsgestaltung – Dos & Don’ts nach der Reform\nDr. Katharina Gollan | POELLATH\nKommentar: Dr. Axel Godron | Taylor Wessing\n17.15 Uhr: Diskussion zu den letzten drei Vorträgen\n17.30 Uhr: Ausklang mit Snacks und Getränken \nAnmeldung\nDie Teilnahme am Seminar ist kostenfrei\, hier geht’s zur Anmeldung.
URL:https://www.pe-magazin.de/termin/seminar-das-reformierte-stiftungsrecht-und-aktuelle-gestaltungsoptionen/
LOCATION:POELLATH in München\, Hofstatt 1 (Eingang Färbergraben 16)\, München\, Bayern\, 80331\, Deutschland
CATEGORIES:TAX
GEO:48.1367971;11.5717277
X-APPLE-STRUCTURED-LOCATION;VALUE=URI;X-ADDRESS=POELLATH in München Hofstatt 1 (Eingang Färbergraben 16) München Bayern 80331 Deutschland;X-APPLE-RADIUS=500;X-TITLE=Hofstatt 1 (Eingang Färbergraben 16):geo:11.5717277,48.1367971
END:VEVENT
END:VCALENDAR