BEGIN:VCALENDAR
VERSION:2.0
PRODID:-//Private Equity Magazin - ECPv6.15.20//NONSGML v1.0//EN
CALSCALE:GREGORIAN
METHOD:PUBLISH
X-ORIGINAL-URL:https://www.pe-magazin.de
X-WR-CALDESC:Events for Private Equity Magazin
REFRESH-INTERVAL;VALUE=DURATION:PT1H
X-Robots-Tag:noindex
X-PUBLISHED-TTL:PT1H
BEGIN:VTIMEZONE
TZID:Europe/Berlin
BEGIN:DAYLIGHT
TZOFFSETFROM:+0100
TZOFFSETTO:+0200
TZNAME:CEST
DTSTART:20230326T010000
END:DAYLIGHT
BEGIN:STANDARD
TZOFFSETFROM:+0200
TZOFFSETTO:+0100
TZNAME:CET
DTSTART:20231029T010000
END:STANDARD
BEGIN:DAYLIGHT
TZOFFSETFROM:+0100
TZOFFSETTO:+0200
TZNAME:CEST
DTSTART:20240331T010000
END:DAYLIGHT
BEGIN:STANDARD
TZOFFSETFROM:+0200
TZOFFSETTO:+0100
TZNAME:CET
DTSTART:20241027T010000
END:STANDARD
BEGIN:DAYLIGHT
TZOFFSETFROM:+0100
TZOFFSETTO:+0200
TZNAME:CEST
DTSTART:20250330T010000
END:DAYLIGHT
BEGIN:STANDARD
TZOFFSETFROM:+0200
TZOFFSETTO:+0100
TZNAME:CET
DTSTART:20251026T010000
END:STANDARD
END:VTIMEZONE
BEGIN:VEVENT
DTSTART;VALUE=DATE:20240506
DTEND;VALUE=DATE:20241203
DTSTAMP:20260423T145738
CREATED:20240326T161108Z
LAST-MODIFIED:20241020T123842Z
UID:29747-1714953600-1733183999@www.pe-magazin.de
SUMMARY:Veranstaltungsreihe "Private Clients und globale Mobilität"
DESCRIPTION:Weltweit vernetzt und auf Achse – der Alltag von Private Clients wird zunehmend durch internationale Sachverhalte bestimmt. Sobald jedoch Berührungspunkte zum Ausland bestehen\, kann es sehr schnell auch sehr kompliziert werden. In welchen Ländern bin ich steuerpflichtig? Was muss ich bei der Verlagerung meines Lebensmittelpunkts ins Ausland beachten? Was passiert mit meinem Vermögen\, wenn mir etwas zustößt? Wie gestalte ich meine Vermögensnachfolge? \nDiese und ähnliche Fragestellungen beantwortet die Online-Vortragsreihe „Private Clients im Fokus: Rechtliche und steuerliche Aspekte internationaler Mobilität“. \nDie einzelnen Module im Überblick\nDie hybride Veranstaltungsreihe besteht aus sechs Seminaren\, bei denen POELLATH-Professionals praxisrelevante Erfahrungen teilen und wertvolle Hinweise mitbringen. Die einzelnen Module finden jeweils von 17.00 bis 18.00 Uhr statt und werden live via Webex übertragen. \nModul 1 │ 6. Mai 2024 │ Das entstrickte Betriebsvermögen – Risiken und Chancen für den mobilen Gesellschafter\nModul 2 │ 17. Juni 2024 │ Wegzug mit Kapitalgesellschaftsanteilen\nModul 3 │ 16. September 2024 │ Wegzug geschafft – Aber was kommt jetzt?\nModul 4 │ 30. September 2024 │ „Mit Kind und Kegel“ – Auswirkungen des Wegzugs auf Eheverträge und Testamente\nModul 5 │ 04. November 2024 │ Brennpunkte des grenzüberschreitenden Erbschaftsteuerrechts\nModul 6 │ 02. Dezember 2024 │ Stiftungen und internationale Mobilität \nWeitere Infos und Anmeldung\nFür weitere Informationen zur Veranstaltungsreihe nutzen Sie bitte die Seiten des Veranstalters.
URL:https://www.pe-magazin.de/termin/veranstaltungsreihe-private-clients-und-globale-mobilitaet/
LOCATION:ONLINE
CATEGORIES:TAX
END:VEVENT
BEGIN:VEVENT
DTSTART;VALUE=DATE:20240919
DTEND;VALUE=DATE:20241213
DTSTAMP:20260423T145738
CREATED:20240305T091607Z
LAST-MODIFIED:20240305T091607Z
UID:29670-1726704000-1734047999@www.pe-magazin.de
SUMMARY:M&A-Lehrgang 2024
DESCRIPTION:Der Lehrgang vermittelt in 10 Modulen die Grundlagen für eine erfolgreiche Durchführung von M&A-Transaktionen. Expertinnen und Experten verschiedenster Fachbereiche werden den Teilnehmenden durch einen interdisziplinären Austausch ein abgerundetes Bild der aktuellen Transaktionspraxis bieten. \nEr richtet sich in erster Linie an Berufsträgerinnen und Berufsträger mit bis zu drei Jahren Berufserfahrung aus allen Bereichen der M&A-Praxis (Private Equity-Fonds\, Unternehmen\, Banken\, Corporate Finance-Berater). Aber auch Interessierte\, die bereits über Erfahrungen in M&A-Transaktionen verfügen\, können hier ihre Kenntnisse in einzelnen Bereichen erweitern. \nDer nächste M&A Lehrgang findet statt von \n19. September bis 12. Dezember 2024 \nals hybride Veranstaltung bei POELLATH in Frankfurt sowie online über Webex. \nProgramm\nModul 1: Ablauf von M&A-Transaktionen und Vorfeldvereinbarungen │ 19.09.2024 17.00-20.00\nIm ersten Modul wird der typische prozedurale und zeitliche Ablauf von M&A-Transaktionen\, von der ersten Kontaktaufnahme zwischen dem Verkäufer und seinen Beratern bis zu dem Vollzug der Transaktion\, dargestellt. \nModul 2: Steuerplanung aus Verkäufer- und Käufersicht │ 26.09.2024 17.00-20.00\nIn diesem Modul wird der Unternehmenskauf aus steuerlicher Sicht betrachtet. Da die steuerlichen Effekte unmittelbar kaufpreisrelevant sind\, ist die Steuerplanung aus Verkäufer- wie aus Käufersicht von entscheidender Bedeutung. \nModul 3: Legal und Tax Due Diligence │ 10.10.2024 17.00-20.00\nDas dritte Modul des Lehrgangs beschäftigt sich mit der Vorbereitung und Durchführung von Due Diligence-Prüfungen auf Käufer- und Verkäuferseite. \nModul 4: Unternehmenskaufvertrag │ 31.10.2024 17.00-20.00\nDer Unternehmenskaufvertrag ist das zentrale Element jeder M&A-Transaktion. In ihm wird der Kaufgegenstand identifiziert\, der Kaufpreis festgelegt und werden die Risiken zwischen Verkäufer und Käufer verteilt. \nModul 5: Unternehmensbewertung und Kaufpreis │ 07.11.2024 17.00-20.00\nIn diesem Teil des Lehrgangs werden zunächst die Grundlagen und die verschiedenen Verfahren der Unternehmensbewertung erläutert. \nModul 6: Akquisitionsfinanzierung | Kartellrecht und Investitionskontrolle │ 14.11.2024 17.00-20.00\nDie Finanzierung des Kaufpreises durch Eigen- und Fremdkapital ist ein weiteres zentrales Element des Unternehmenskaufs. Anschließend werden die kartellrechtlichen und investitionskontrollrechtlichen Vorgaben für M&A-Transaktionen erläutert. \nModul 7: Minderheits- und Mehrheitsbeteiligungen │ 21.11.2024 17.00-20.00\nIn diesem Teil des Lehrgangs werden Besonderheiten beim Erwerb von Mehrheits- und Minderheitsbeteiligungen erläutert. Zentrales Element ist hierbei die Gesellschaftervereinbarung zwischen dem Erwerber und seinen künftigen Mitgesellschaftern. \nModul 8: Private Equity │ 28.11.2024 17.00-20.00\nDie Strategien und rechtliche Umsetzung der Übernahme eines börsennotierten Unternehmens werden im zehnten Teil des Lehrgangs vorgestellt. \nModul 9: Managementbeteiligungen │ 05.12.2024 17.00-20.00\nDie Beteiligung des Managements am wirtschaftlichen Erfolg eines Unternehmens gehört heute zu den üblichen Werkzeugen zur Steigerung des Unternehmenswertes. \nModul 10: Distressed M&A │ 12.12.2024 17.00-20.00\nIn diesem Modul werden die Besonderheiten des Unternehmenskaufs aus Krise und Insolvenz behandelt. \nWeitere Infos und Anmeldung\nBitte nutzen Sie die Seiten des Veranstalters.
URL:https://www.pe-magazin.de/termin/ma-lehrgang-2024/
LOCATION:Hybrid│Online und Präsenz
CATEGORIES:M&A/Private Equity
ORGANIZER;CN="P+ Training GmbH":MAILTO:info@pptraining.de
END:VEVENT
BEGIN:VEVENT
DTSTART;TZID=Europe/Berlin:20241007T173000
DTEND;TZID=Europe/Berlin:20241007T193000
DTSTAMP:20260423T145738
CREATED:20240930T091058Z
LAST-MODIFIED:20240930T091058Z
UID:30444-1728322200-1728329400@www.pe-magazin.de
SUMMARY:93. Berliner Steuergespräch "Reformbedarf im Gemeinnützigkeitsrecht"
DESCRIPTION:Im November 2021 vereinbarten die Ampelparteien in ihrem Koalitionsvertrag\, das Gemeinnützigkeitsrecht zu modernisieren. Im Beschluss des Bundeskabinetts vom 24. Juli 2024 finden sich statt einer umfassenden Modernisierung lediglich punktuelle Änderungen des Gemeinnützigkeitsrechts. Für Überraschung sorgt die Abschaffung der Pflicht zur zeitnahen Mittelverwendung\, in deren Folge auch die Regelungen zur Rücklagenbildung entfallen. Gemäß der Regierungsbegründung ist die Entbürokratisierung und Flexibilisierung gemeinnützigen Handelns das Ziel. Gänzlich unberücksichtigt bleiben Klarstellungen zur politischen Betätigung gemeinnütziger Organisationen\, die Implementierung einer Business Judgement Rule in der AO\, die Einführung abgestufter Sanktionierungen\, die Erleichterung der Zusammenarbeit gemeinnütziger Organisationen und grenzüberschreitenden Engagements. \nÜber die Konsequenzen der ersatzlosen Streichung des Gebots zeitnaher Mittelverwendung und den darüber hinausgehenden umfassenden Reformbedarf des Gemeinnützigkeitsrechts wollen wir im Rahmen des 93. Berliner Steuergesprächs mit dem Podium diskutieren. \nMontag\, 7. Oktober 2024\n17.30 bis 19.30 Uhr\nONLINE via Webex \nREFERENTEN\nMarkus Exner | Hessisches Ministerium der Finanzen\nErika Koglin | Der Paritätische Wohlfahrtsverband \nPODIUM\nDr. Julia Runte | ESCHE SCHÜMANN COMMICHAU\nProf. Dr. Tibor Schober | Finanzgericht Berlin-Brandenburg\nProf. Dr. Birgit Weitemeyer | Bucerius Law School \nGESPRÄCHSLEITUNG\nDr. Andreas Richter | POELLATH \n  \nJETZT KOSTENFREI ANMELDEN
URL:https://www.pe-magazin.de/termin/93-berliner-steuergespraech-reformbedarf-im-gemeinnuetzigkeitsrecht/
LOCATION:ONLINE
CATEGORIES:TAX
END:VEVENT
BEGIN:VEVENT
DTSTART;VALUE=DATE:20241008
DTEND;VALUE=DATE:20241009
DTSTAMP:20260423T145738
CREATED:20240522T085353Z
LAST-MODIFIED:20240522T085353Z
UID:29927-1728345600-1728431999@www.pe-magazin.de
SUMMARY:14. Hamburger Fondsgespräch
DESCRIPTION:Die Hamburger Fondsgespräche sollen ein offenes Forum für die Private Equity- und Venture Capital-Szene sowie die geschlossene Fondsindustrie schaffen\, das allen Personen und Unternehmen\, die sich in ihrer Arbeit mit geschlossenen Fondsprodukten beschäftigen\, zum Gedanken- und Erfahrungsaustausch zur Verfügung stehen soll. \nDas 14. Hamburger Fondsgespräch findet statt am \n08. Oktober 2024 im \nHotel Hafen Hamburg \n  \nFür weitere Informationen nutzen Sie bitte die Seiten des Veranstalters.
URL:https://www.pe-magazin.de/termin/14-hamburger-fondsgespraech/
LOCATION:Hotel Hafen Hamburg\, Seewartenstraße 9\, Hamburg\, Hamburg\, 20459\, Deutschland
CATEGORIES:Investment Funds
ORGANIZER;CN="P+ Training GmbH":MAILTO:info@pptraining.de
GEO:53.5470429;9.9689389
X-APPLE-STRUCTURED-LOCATION;VALUE=URI;X-ADDRESS=Hotel Hafen Hamburg Seewartenstraße 9 Hamburg Hamburg 20459 Deutschland;X-APPLE-RADIUS=500;X-TITLE=Seewartenstraße 9:geo:9.9689389,53.5470429
END:VEVENT
BEGIN:VEVENT
DTSTART;TZID=Europe/Berlin:20241009T173000
DTEND;TZID=Europe/Berlin:20241009T193000
DTSTAMP:20260423T145738
CREATED:20240830T084824Z
LAST-MODIFIED:20240830T084824Z
UID:30353-1728495000-1728502200@www.pe-magazin.de
SUMMARY:43. Münchner Unternehmenssteuerforum
DESCRIPTION:Das 43. Münchner Unternehmenssteuerforum findet am \nMittwoch\, 09. Oktober 2024\, 17.30 – 19.30 Uhr \nals Präsenzveranstaltung im Literaturhaus München\, Salvatorplatz 1\, 80333 München statt. \nAnmeldung\nBei Interesse an der Veranstaltung\, registrieren Sie sich gerne hier für den Einladungsversand.
URL:https://www.pe-magazin.de/termin/43-muenchner-unternehmenssteuerforum/
LOCATION:Literaturhaus München\, Salvatorplatz 1\, München\, Bayern\, 80331\, Deutschland
CATEGORIES:TAX
GEO:48.1418942;11.5748838
X-APPLE-STRUCTURED-LOCATION;VALUE=URI;X-ADDRESS=Literaturhaus München Salvatorplatz 1 München Bayern 80331 Deutschland;X-APPLE-RADIUS=500;X-TITLE=Salvatorplatz 1:geo:11.5748838,48.1418942
END:VEVENT
END:VCALENDAR