BEGIN:VCALENDAR
VERSION:2.0
PRODID:-//Private Equity Magazin - ECPv6.15.20//NONSGML v1.0//EN
CALSCALE:GREGORIAN
METHOD:PUBLISH
X-ORIGINAL-URL:https://www.pe-magazin.de
X-WR-CALDESC:Events for Private Equity Magazin
REFRESH-INTERVAL;VALUE=DURATION:PT1H
X-Robots-Tag:noindex
X-PUBLISHED-TTL:PT1H
BEGIN:VTIMEZONE
TZID:Europe/Berlin
BEGIN:DAYLIGHT
TZOFFSETFROM:+0100
TZOFFSETTO:+0200
TZNAME:CEST
DTSTART:20240331T010000
END:DAYLIGHT
BEGIN:STANDARD
TZOFFSETFROM:+0200
TZOFFSETTO:+0100
TZNAME:CET
DTSTART:20241027T010000
END:STANDARD
BEGIN:DAYLIGHT
TZOFFSETFROM:+0100
TZOFFSETTO:+0200
TZNAME:CEST
DTSTART:20250330T010000
END:DAYLIGHT
BEGIN:STANDARD
TZOFFSETFROM:+0200
TZOFFSETTO:+0100
TZNAME:CET
DTSTART:20251026T010000
END:STANDARD
BEGIN:DAYLIGHT
TZOFFSETFROM:+0100
TZOFFSETTO:+0200
TZNAME:CEST
DTSTART:20260329T010000
END:DAYLIGHT
BEGIN:STANDARD
TZOFFSETFROM:+0200
TZOFFSETTO:+0100
TZNAME:CET
DTSTART:20261025T010000
END:STANDARD
END:VTIMEZONE
BEGIN:VEVENT
DTSTART;VALUE=DATE:20250401
DTEND;VALUE=DATE:20250528
DTSTAMP:20260420T031033
CREATED:20250206T105048Z
LAST-MODIFIED:20250206T105048Z
UID:30836-1743465600-1748390399@www.pe-magazin.de
SUMMARY:Venture Nights 2025
DESCRIPTION:Die Venture Nights richten sich an GründerInnen sowie Professionals auf Investorenseite gleichermaßen. Erfahrene Expertinnen und Experten von POELLATH vermitteln in 7 Modulen alles\, was man in rechtlicher und steuerlicher Hinsicht wissen muss\, um mit GründerInnen\, Business Angels\, VCs oder anderen InvestorInnen die Bedingungen eines Investments auf Augenhöhe zu verhandeln. \nDie nächste Veranstaltungsreihe wird vom 01. April bis 27. Mai 2025 als Online-Veranstaltung stattfinden. Die Module werden via MS Teams übertragen. \nDie einzelnen Module im Überblick\nModul 1: Einführung/VC Basics I\n01.04.2025\, 18.00-20.30 Uhr\nBei einer VC-Finanzierung stoßen oft grundsätzliche Interessen von GründerInnen und InvestorInnen aufeinander. \nModul 2: VC Basics II/Exit Considerations\n08.04.2025\, 18.00-20.30 Uhr\nIn Modul Zwei befassen wir uns mit den wesentlichen Regelungen eines VC-Investments und den vertraglichen Grundlagen in der sog. Beteiligungs- und Gesellschaftervereinbarung. \nModul 3: HR Legal/„Workation and Data Protection to go”\n29.04.2025\, 18.00-20.30 Uhr \nModul 4: Start-up Tax/Special: ESG in VC Fonds und Start-ups\n06.05.2025\, 18.00-20.30 Uhr\nNeben der Gestaltung und Umsetzung ihrer eigenen Idee sollten sich junge UnternehmerInnen und Start-ups ab den ersten Überlegungen zur Rechtsformwahl bis hin zu einem möglichen Exit ihres Unternehmens auch Fragen in puncto Steuern stellen\, die in das Gesamtkonzept einzubeziehen sind. \nModul 5: Mitarbeiterincentivierung in Start-ups (ESOP/VSOP)\n13.05.2025\, 18.00-20.30 Uhr\nDas Modul Mitarbeiterbeteiligungen behandelt verschiedene Incentivierungsformen\, insbesondere Options- und Bonusgestaltungen sowie Kapitalbeteiligungen\, mit ihren jeweiligen Vor- und Nachteilen. \nModul 6: Intellectual Property/Data Protection\n20.05.2025\, 18.00-20.30 Uhr\nDer Schutz des geistigen Eigentums ist bei vielen Unternehmen besonders wichtig\, da darüber hinaus häufig keine weiteren Assets vorhanden sind. \nModul 7: VC Fonds\n27.05.2025\, 18.00-20.30 Uhr\nRund um Venture Capital-Fonds stellen sich viele spannende Fragen\, die die Experten von POELLATH in diesem Modul beantworten. \nAnmeldung\nDie Teilnahme an den Venture Nights ist kostenfrei. Hier geht’s zur Anmeldung.
URL:https://www.pe-magazin.de/termin/venture-nights-2025/
LOCATION:ONLINE
CATEGORIES:Venture Capital & Co.
ORGANIZER;CN="P+ Training GmbH":MAILTO:info@pptraining.de
END:VEVENT
BEGIN:VEVENT
DTSTART;TZID=Europe/Berlin:20250403T180000
DTEND;TZID=Europe/Berlin:20250403T200000
DTSTAMP:20260420T031033
CREATED:20250224T113106Z
LAST-MODIFIED:20250224T113106Z
UID:30903-1743703200-1743710400@www.pe-magazin.de
SUMMARY:16. Funds Forum Frankfurt
DESCRIPTION:Die Darlehensvergabe durch Fonds wird durch die Umsetzung der sog. AIFMD II-Richtlinie ins deutsche KAGB von Grund auf neu geregelt. Das betrifft „echte“ Darlehensfonds\, aber auch solche Fonds\, die nicht grundsätzlich auf die Darlehensvergabe ausgerichtet sind\, aber dennoch im Rahmen ihrer Anlagestrategie auch Darlehen (z.B. an Portfoliounternehmen) ausgeben. Die bisherigen Regelungen des KAGB zur Darlehensvergabe\, einschließlich einer begrenzten Privilegierung von Gesellschafterdarlehen\, werden zum 16. April 2026 durch die neuen Regeln ersetzt. \nDiskutieren Sie mit Branchenexperten\, auf welche Veränderungen sich Fondsmanager einstellen müssen\, welche Chancen dies gerade im Private Equity und Venture Capital-Bereich bietet\, aber auch welche neuen Herausforderungen sich für bestehende und neu aufgelegte Fonds stellen. Zudem werden praxisrelevante steuerliche Aspekte behandelt\, wie z.B. die Besteuerung von Carried Interest aus Darlehensfonds. \n16. Funds Forum Frankfurt\nDarlehensvergabe durch Fonds/Fondsmanager und Auswirkungen auf PE und VC-Industrie\n3. April 2025\, 18 bis 20 Uhr \nAgenda\n17.30-18.00 Uhr  Registrierung der Teilnehmenden \n18.00-20.00 Uhr Paneldiskussion: \nKarsten Batran | Managing Partner BRIGHT CAPITAL\, Frankfurt \nDr. Tobias Lochen | Associated Partner\, POELLATH\, Berlin \nPatricia Volhard\, L.L.M. | Debevoise & Plimpton\, Partner\, Frankfurt\, London\, Paris \nDiskussionsleitung: Dr. Peter Bujotzek\, LL.M. | Partner\, POELLATH\, Frankfurt \nab [20:00] Uhr Get-Together zum Netzwerken und für den weiteren Austausch unter den Teilnehmenden \nAnmeldung\nZur kostenfreien Teilnahme registrieren Sie sich bitte über die Seite des Veranstalters. Sie erhalten eine Teilnahmebestätigung sowie ein Ticket zur Veranstaltung.
URL:https://www.pe-magazin.de/termin/16-funds-forum-frankfurt/
LOCATION:Literaturhaus Frankfurt\, Schöne Aussicht 2\, Frankfurt am Main\, Hessen\, 60311\, Deutschland
CATEGORIES:Investment Funds
ORGANIZER;CN="P+ Training GmbH":MAILTO:info@pptraining.de
GEO:50.1093391;8.6920056
X-APPLE-STRUCTURED-LOCATION;VALUE=URI;X-ADDRESS=Literaturhaus Frankfurt Schöne Aussicht 2 Frankfurt am Main Hessen 60311 Deutschland;X-APPLE-RADIUS=500;X-TITLE=Schöne Aussicht 2:geo:8.6920056,50.1093391
END:VEVENT
END:VCALENDAR