BEGIN:VCALENDAR
VERSION:2.0
PRODID:-//Private Equity Magazin - ECPv6.15.20//NONSGML v1.0//EN
CALSCALE:GREGORIAN
METHOD:PUBLISH
X-ORIGINAL-URL:https://www.pe-magazin.de
X-WR-CALDESC:Events for Private Equity Magazin
REFRESH-INTERVAL;VALUE=DURATION:PT1H
X-Robots-Tag:noindex
X-PUBLISHED-TTL:PT1H
BEGIN:VTIMEZONE
TZID:Europe/Berlin
BEGIN:DAYLIGHT
TZOFFSETFROM:+0100
TZOFFSETTO:+0200
TZNAME:CEST
DTSTART:20180325T010000
END:DAYLIGHT
BEGIN:STANDARD
TZOFFSETFROM:+0200
TZOFFSETTO:+0100
TZNAME:CET
DTSTART:20181028T010000
END:STANDARD
BEGIN:DAYLIGHT
TZOFFSETFROM:+0100
TZOFFSETTO:+0200
TZNAME:CEST
DTSTART:20190331T010000
END:DAYLIGHT
BEGIN:STANDARD
TZOFFSETFROM:+0200
TZOFFSETTO:+0100
TZNAME:CET
DTSTART:20191027T010000
END:STANDARD
BEGIN:DAYLIGHT
TZOFFSETFROM:+0100
TZOFFSETTO:+0200
TZNAME:CEST
DTSTART:20200329T010000
END:DAYLIGHT
BEGIN:STANDARD
TZOFFSETFROM:+0200
TZOFFSETTO:+0100
TZNAME:CET
DTSTART:20201025T010000
END:STANDARD
END:VTIMEZONE
BEGIN:VEVENT
DTSTART;TZID=Europe/Berlin:20190520T090000
DTEND;TZID=Europe/Berlin:20190521T170000
DTSTAMP:20260425T143800
CREATED:20190408T185058Z
LAST-MODIFIED:20190408T185319Z
UID:20425-1558342800-1558458000@www.pe-magazin.de
SUMMARY:Tage der Institutionellen Kapitalanlage (TIK) 2019
DESCRIPTION:Ziel der am 20./21. Mai 2019 erstmals stattfindenden „Tage der Institutionellen Kapitalanlage” ist es\, Vertretern der national wie international erfolgreichsten institutionellen Investoren ein Forum zu bieten\, sich zu aktuellen Themen auszutauschen. Hierfür bietet die Messestadt Leipzig mit ihrem versicherungswirtschaftlichen und -wissenschaftlichen Hintergrund den idealen Rahmen. Referentenzusagen liegen unter anderem bereits von der Boston Consulting Group\, GAC Consulting\, HHL\, IMD und Simmons & Simmons vor. \nAnmeldung und Programm\nBitte nutzen Sie die Onlineanmeldung des Veranstalters. \nTIK2019 am 20. und 21.5. in Leipzig_Programm \nWeitere Informationen zur Veranstaltung finden Sie hier.
URL:https://www.pe-magazin.de/termin/tage-der-institutionellen-kapitalanlage-tik-2019/
LOCATION:Salle de Pologne (Hotel Michaelis)\, Hainstraße 16-18\, Leipzig\, 04109\, Deutschland
CATEGORIES:Investment Funds
GEO:51,34251;12,3735701
X-APPLE-STRUCTURED-LOCATION;VALUE=URI;X-ADDRESS=Salle de Pologne (Hotel Michaelis) Hainstraße 16-18 Leipzig 04109 Deutschland;X-APPLE-RADIUS=500;X-TITLE=Hainstraße 16-18:geo:12,3735701,51,34251
END:VEVENT
END:VCALENDAR