BEGIN:VCALENDAR
VERSION:2.0
PRODID:-//Private Equity Magazin - ECPv6.15.20//NONSGML v1.0//EN
CALSCALE:GREGORIAN
METHOD:PUBLISH
X-WR-CALNAME:Private Equity Magazin
X-ORIGINAL-URL:https://www.pe-magazin.de
X-WR-CALDESC:Events for Private Equity Magazin
REFRESH-INTERVAL;VALUE=DURATION:PT1H
X-Robots-Tag:noindex
X-PUBLISHED-TTL:PT1H
BEGIN:VTIMEZONE
TZID:Europe/Berlin
BEGIN:DAYLIGHT
TZOFFSETFROM:+0100
TZOFFSETTO:+0200
TZNAME:CEST
DTSTART:20190331T010000
END:DAYLIGHT
BEGIN:STANDARD
TZOFFSETFROM:+0200
TZOFFSETTO:+0100
TZNAME:CET
DTSTART:20191027T010000
END:STANDARD
BEGIN:DAYLIGHT
TZOFFSETFROM:+0100
TZOFFSETTO:+0200
TZNAME:CEST
DTSTART:20200329T010000
END:DAYLIGHT
BEGIN:STANDARD
TZOFFSETFROM:+0200
TZOFFSETTO:+0100
TZNAME:CET
DTSTART:20201025T010000
END:STANDARD
BEGIN:DAYLIGHT
TZOFFSETFROM:+0100
TZOFFSETTO:+0200
TZNAME:CEST
DTSTART:20210328T010000
END:DAYLIGHT
BEGIN:STANDARD
TZOFFSETFROM:+0200
TZOFFSETTO:+0100
TZNAME:CET
DTSTART:20211031T010000
END:STANDARD
END:VTIMEZONE
BEGIN:VEVENT
DTSTART;VALUE=DATE:20200615
DTEND;VALUE=DATE:20200620
DTSTAMP:20260424T184008
CREATED:20190709T092230Z
LAST-MODIFIED:20200612T091158Z
UID:20983-1592179200-1592611199@www.pe-magazin.de
SUMMARY:Munich Private Equity Training / eMUPET 2020
DESCRIPTION:Das Munich Private Equity Training (MUPET) zeigt die aktuellen Markttrends und Marktstandards in allen Bereichen der Branche. Hier treffen sich Spezialisten aus dem In- und Ausland\, um über die neuesten Entwicklungen in den Bereichen Private Funds\, Tax und M&A zu diskutieren. Sie treffen u.a. Investoren\, Initiatoren\, Manager\, Transaktionsspezialisten\, Finanzierer\, Vorstände\, Geschäftsführer und Berater aus allen beteiligten Disziplinen. \nIn diesem Jahr erfährt die MUPET eine Neuerung. Aufgrund der auch im Sommer noch anhaltenden Corona-Beschränkungen wird die bekannte Fachtagung für Private Equity-Professionals als „eMUPET-Woche“ mit Webinaren und weiteren digitalen Formaten stattfinden.  Die Teilnahme ist in diesem Jahr kostenfrei. \nAlle Infos und Impressionen zur MUPET finden Sie hier. \nTeilnehmer\nDas Munich Private Equity Training (MUPET) ist eine interdisziplinäre Fachtagung für Private Equity Professionals. \nTermin\nDie MUPET wird in diesem Jahr als Onlineveranstaltung vom 15. bis 19. Juni durchgeführt. Das Programm und der Zeitplan werden Mitte Mai auf www.pptraining.de veröffentlicht. \nInhalte\nDieses Jahr mit folgenden Highlights: \n\nKlimawandel & Pandemie – ESG quo vadis?\nOnboarding von Investoren leicht gemacht mit Legal Tech – Das P+P-Online-Zeichnungsportal\nBarbarians at the Gate? – Neue Genehmigungspflicht von Auslandsinvestitionen in Deutschland\nFundraising in Zeiten von Corona\nM&A in der Krise\nDebt Fonds – Retter in der Not?\nManagementbeteiligungen – Anleitungen zum Reset\nDAC 6 bei Transaktionen und Fonds\n\nHier geht’s zum vollständigen Programm:\neMUPET 2020 Programm_final \nAnmeldung\nFür die Anmeldung nutzen Sie bitte die Onlineregistrierung des Veranstalters.
URL:https://www.pe-magazin.de/termin/munich-private-equity-training-mupet-2020/
LOCATION:Berlin
CATEGORIES:Investment Funds,TAX,M&A/Private Equity
ATTACH;FMTTYPE=image/jpeg:https://www.pe-magazin.de/wp-content/uploads/2019/07/Standbild_MUPET_mit-Button.jpg
ORGANIZER;CN="P+ Training GmbH":MAILTO:info@pptraining.de
END:VEVENT
END:VCALENDAR