BEGIN:VCALENDAR
VERSION:2.0
PRODID:-//Private Equity Magazin - ECPv6.15.20//NONSGML v1.0//EN
CALSCALE:GREGORIAN
METHOD:PUBLISH
X-ORIGINAL-URL:https://www.pe-magazin.de
X-WR-CALDESC:Events for Private Equity Magazin
REFRESH-INTERVAL;VALUE=DURATION:PT1H
X-Robots-Tag:noindex
X-PUBLISHED-TTL:PT1H
BEGIN:VTIMEZONE
TZID:Europe/Berlin
BEGIN:DAYLIGHT
TZOFFSETFROM:+0100
TZOFFSETTO:+0200
TZNAME:CEST
DTSTART:20210328T010000
END:DAYLIGHT
BEGIN:STANDARD
TZOFFSETFROM:+0200
TZOFFSETTO:+0100
TZNAME:CET
DTSTART:20211031T010000
END:STANDARD
BEGIN:DAYLIGHT
TZOFFSETFROM:+0100
TZOFFSETTO:+0200
TZNAME:CEST
DTSTART:20220327T010000
END:DAYLIGHT
BEGIN:STANDARD
TZOFFSETFROM:+0200
TZOFFSETTO:+0100
TZNAME:CET
DTSTART:20221030T010000
END:STANDARD
BEGIN:DAYLIGHT
TZOFFSETFROM:+0100
TZOFFSETTO:+0200
TZNAME:CEST
DTSTART:20230326T010000
END:DAYLIGHT
BEGIN:STANDARD
TZOFFSETFROM:+0200
TZOFFSETTO:+0100
TZNAME:CET
DTSTART:20231029T010000
END:STANDARD
END:VTIMEZONE
BEGIN:VEVENT
DTSTART;VALUE=DATE:20220503
DTEND;VALUE=DATE:20220505
DTSTAMP:20260423T105955
CREATED:20211203T165320Z
LAST-MODIFIED:20211203T165320Z
UID:26304-1651536000-1651708799@www.pe-magazin.de
SUMMARY:BAI Alternative Investor Conference 2022
DESCRIPTION:BAI Alternative Investor Conference 2022\n3./4. Mai 2022 in Frankfurt \nKey Facts\n\nDie Branchenkonferenz rund um das Thema Alternative Investments\nFachvorträge\, Keynote Speeches und Paneldiskussionen u.a. aus den Bereichen strategische Assetallokation\, ESG & Regulierung\, Private Markets und Credit Specialities\nAssetklassen- und produktübergreifend\nAusgerichtet auf institutionelle Investoren\n\nVeranstalter\nDer BAI\, als Verband und Vertreter der Alternativen Investment-Industrie in Deutschland\, möchte mit der BAI Alternative Investor Conference (AIC) den Teilnehmern eine Plattform des fachlichen Gedankenaustausches bieten und darüber hinaus maßgeblich dazu beitragen\, dass das Thema Alternative Investments mit einem besseren Verständnis von der Öffentlichkeit aufgenommen wird. Die BAI AIC richtet sich in erster Linie an institutionelle Investoren\, sie bietet aber auch Produktanbietern und Dienstleistern eine optimale Gelegenheit\, um Erfahrungen auszutauschen und über neueste Erkenntnisse und Trends in der AI-Industrie zu diskutieren. \nAlternative Investments spielen in den Portfolios institutioneller Investoren aufgrund der positiven Eigenschaften im Hinblick auf Risikominderung und der Chance auf höhere Renditen eine zunehmende Bedeutung. Auch bei Investoren aus Deutschland wächst seit Jahren stetig das Interesse\, so dass viele institutionelle Investoren mittlerweile vermehrt auch in Alternative Investments investieren. \nProgramm\nWir bieten den Teilnehmern der Konferenz an insgesamt zwei Tagen ein abwechslungsreiches Programm mit hochaktuellen und kurzweiligen Vorträgen und Paneldiskussionen. Auf der AIC 2022 findet erstmal am Nachmittag vor der AIC ein Pre-Event zu ESG: Daten & Research statt. Bitte beachten Sie\, dass die Anzahl der Teilnehmer für dieses Event auf ca. 120 – 150 Personen begrenzt sein wird. \nRahmenprogramm\nDas „neue“ Get-together wird am Abend des ersten Konferenztages (3. Mai 2022) nicht mehr im Kap Europa\, sondern im Westhafen Pier\, in unmittelbarere Nähe des Mains gelegen\, stattfinden. Durch die Verlegung kommen wir dem Wunsch zahlreicher Sponsoren und Mitgliedsunternehmen nach einer gemeinsamen Veranstaltung – mit den institutionellen Investoren – nach. Das Investorendinner bleibt bestehen\, wird jedoch zeitlich vorverlegt (18-[20:30] Uhr). Beginn des Get-togethers für die Gäste\, die nicht am Investorendinner teilnehmen\, ist [18:30] Uhr im Westhafen Pier\, der Get-together- Speech wird um 21 Uhr – also nach Beendigung des Investorendinners – stattfinden. Es werden Speisen und Getränke angeboten\, ein Shuttle-Service steht zur Verfügung. \nWorkshop für institutionelle Investoren\nKapitalanlageverantwortliche Vertreter institutioneller Endinvestoren (Versicherer\, Stiftungen\, Versorgungswerke\, Pensionskassen\, Pensionsfonds\, Single Family Offices) berichten im Investorenworkshop am Mittwoch\, 4. Mai 2022 über ihre eigenen Erfahrungen mit Anlagen in Alternative Investments. Im Anschluss an die Vorträge besteht für die Teilnehmer – welche sich während des Workshops ausschließlich aus den Reihen der Endinvestoren zusammensetzen – die Möglichkeit\, sich auszutauschen und zu diskutieren. \nTeilnahme\nDie Registrierung öffnet Ende Januar 2022. Weitere Informationen finden Sie auf den Seiten des Veranstalters.
URL:https://www.pe-magazin.de/termin/bai-alternative-investor-conference-2022/
LOCATION:Kap Europa Frankfurt\, Osloer Str. 5\, Frankfurt am Main\, 60327
CATEGORIES:Investment Funds
GEO:50.1128364;8.6412885
X-APPLE-STRUCTURED-LOCATION;VALUE=URI;X-ADDRESS=Kap Europa Frankfurt Osloer Str. 5 Frankfurt am Main 60327;X-APPLE-RADIUS=500;X-TITLE=Osloer Str. 5:geo:8.6412885,50.1128364
END:VEVENT
BEGIN:VEVENT
DTSTART;VALUE=DATE:20220519
DTEND;VALUE=DATE:20220520
DTSTAMP:20260423T105955
CREATED:20211203T164221Z
LAST-MODIFIED:20211203T164221Z
UID:26300-1652918400-1653004799@www.pe-magazin.de
SUMMARY:Tag der Institutionellen Kapitalanlage 2022
DESCRIPTION:Institutionelle Investoren aus ganz Deutschland treffen sich zum Austausch mit Anbietern von Investmentlösungen zu einer Ganztagskonferenz in Frankfurt am Main. Die Themen entwickeln der Bund Institutioneller Investoren e.V. (bii) und Targa Communications gemeinsam mit den Kooperationspartnern. Der Themenfokus liegt auf den Assetklassen Immobilien\, (RE) Debt\, (RE) Equity\, Infrastructure\, Energy und evtl. Timber. \nDie Veranstaltung beginnt mit einer interessanten Opening Keynote\, anschließend diskutieren hochkarätige Vertreter von Investoren und Managern auf einem moderierten Opening Panel. Es folgen Vorträge\, Interviews oder weitere Podiumsdiskussionen\, unterbrochen von einer ausreichenden Zahl von Pausen zum Networken. Nach der Mittagspause ist eine weitere Keynote geplant. Nach weiteren Vorträgen\, Interviews und Podiumsdiskussionen\, ebenfalls mit ausreichenden Networking-Breaks\, endet die Konferenz mit einer Closing Keynote. \nWeitere Informationen finden Sie auf den Seiten des Veranstalters.
URL:https://www.pe-magazin.de/termin/tag-der-institutionellen-kapitalanlage-2022/
LOCATION:Wird bald bekanntgegeben / To be confirmed shortly
CATEGORIES:M&A/Private Equity,Investment Funds
END:VEVENT
END:VCALENDAR