BEGIN:VCALENDAR
VERSION:2.0
PRODID:-//Private Equity Magazin - ECPv6.15.20//NONSGML v1.0//EN
CALSCALE:GREGORIAN
METHOD:PUBLISH
X-WR-CALNAME:Private Equity Magazin
X-ORIGINAL-URL:https://www.pe-magazin.de
X-WR-CALDESC:Events for Private Equity Magazin
REFRESH-INTERVAL;VALUE=DURATION:PT1H
X-Robots-Tag:noindex
X-PUBLISHED-TTL:PT1H
BEGIN:VTIMEZONE
TZID:Europe/Berlin
BEGIN:DAYLIGHT
TZOFFSETFROM:+0100
TZOFFSETTO:+0200
TZNAME:CEST
DTSTART:20210328T010000
END:DAYLIGHT
BEGIN:STANDARD
TZOFFSETFROM:+0200
TZOFFSETTO:+0100
TZNAME:CET
DTSTART:20211031T010000
END:STANDARD
BEGIN:DAYLIGHT
TZOFFSETFROM:+0100
TZOFFSETTO:+0200
TZNAME:CEST
DTSTART:20220327T010000
END:DAYLIGHT
BEGIN:STANDARD
TZOFFSETFROM:+0200
TZOFFSETTO:+0100
TZNAME:CET
DTSTART:20221030T010000
END:STANDARD
BEGIN:DAYLIGHT
TZOFFSETFROM:+0100
TZOFFSETTO:+0200
TZNAME:CEST
DTSTART:20230326T010000
END:DAYLIGHT
BEGIN:STANDARD
TZOFFSETFROM:+0200
TZOFFSETTO:+0100
TZNAME:CET
DTSTART:20231029T010000
END:STANDARD
END:VTIMEZONE
BEGIN:VEVENT
DTSTART;VALUE=DATE:20220614
DTEND;VALUE=DATE:20220618
DTSTAMP:20260423T093907
CREATED:20211202T163827Z
LAST-MODIFIED:20211202T163827Z
UID:26282-1655164800-1655510399@www.pe-magazin.de
SUMMARY:Super Return International 2022
DESCRIPTION:Super Return International ist die wegweisende Private Equity-Konferenz\, die jährlich mehr als 3.000 globale Private Equity-Entscheider anzieht\, darunter mehr als 1.000 LPs. \nDie nächste Super Return International findet vom 14. bis 17. Juni 2022 in Berlin statt. \nBitte besuchen Sie die Veranstaltungswebsite\, um die aktuelle Agenda zu sehen und sich online zu registrieren.
URL:https://www.pe-magazin.de/termin/super-return-international-2022/
LOCATION:Intercontinental Hotel Berlin\, Budapester Str. 2\, Berlin\, 10787
CATEGORIES:M&A/Private Equity,Investment Funds
GEO:52.50709;13.34553
X-APPLE-STRUCTURED-LOCATION;VALUE=URI;X-ADDRESS=Intercontinental Hotel Berlin Budapester Str. 2 Berlin 10787;X-APPLE-RADIUS=500;X-TITLE=Budapester Str. 2:geo:13.34553,52.50709
END:VEVENT
BEGIN:VEVENT
DTSTART;TZID=Europe/Berlin:20220614T193000
DTEND;TZID=Europe/Berlin:20220614T193000
DTSTAMP:20260423T093907
CREATED:20220307T165017Z
LAST-MODIFIED:20220307T170119Z
UID:26778-1655235000-1655235000@www.pe-magazin.de
SUMMARY:POELLATH-Abendveranstaltung anlässlich des Super Return 2022
DESCRIPTION:Die Kanzlei POELLATH nimmt vom 14. bis 17. Juni 2022 an der SuperReturn International 2022\, der weltweit größten globalen Private Equity & Venture Capital Veranstaltung im InterContinental Hotel\, Berlin\, teil. Im Rahmen dieser Branchenevents lädt die Kanzlei zu einer Abendveranstaltung ein. \nDienstag\, 14. Juni 2022 ab 19.30 Uhr\nim Berliner POELLATH-Büro\nPotsdamer Platz 5\, 10785 Berlin \n  \nHier geht’s zur Anmeldung
URL:https://www.pe-magazin.de/termin/poellath-abendveranstaltung-anlaesslich-des-super-return-2022/
LOCATION:POELLATH in Berlin\, Potsdamer Platz 5\, Berlin\, Berlin\, 10785\, Deutschland
CATEGORIES:Investment Funds
GEO:52.5104323;13.3762675
X-APPLE-STRUCTURED-LOCATION;VALUE=URI;X-ADDRESS=POELLATH in Berlin Potsdamer Platz 5 Berlin Berlin 10785 Deutschland;X-APPLE-RADIUS=500;X-TITLE=Potsdamer Platz 5:geo:13.3762675,52.5104323
END:VEVENT
BEGIN:VEVENT
DTSTART;VALUE=DATE:20220630
DTEND;VALUE=DATE:20220701
DTSTAMP:20260423T093907
CREATED:20211207T161006Z
LAST-MODIFIED:20220612T143420Z
UID:26343-1656547200-1656633599@www.pe-magazin.de
SUMMARY:Munich Private Equity Training (MUPET) 2022
DESCRIPTION:Auf der MUPET Munich Private Equity Training werden jährlich die aktuellen Themen und Entwicklungen der Private Equity-Branche vorgestellt und diskutiert. Als marktführende Private Equity-Veranstaltung in Deutschland bietet sie zahlreiche Vorträge und Paneldiskussionen mit führenden Expertinnen und Experten in den Bereichen Private Funds\, M&A und Tax. \nDie Teilnahmegebühr liegt bei 750\,00 Euro netto. Diese beinhaltet die ganztägige Präsenzteilnahme vor Ort in München sowie die Tagungsunterlagen. Außerdem werden alle Beiträge aufgezeichnet und stehen den Teilnehmenden im Nachgang als Video on Demand bis zum 24. Juli 2022 zur Verfügung. \nDie Anmeldung ist ab sofort möglich! Registrieren Sie sich hier! \nSie wollen mehr wissen? Hier geht’s zum Programm der MUPET 2022
URL:https://www.pe-magazin.de/termin/munich-private-equity-training-mupet-2022/
LOCATION:Literaturhaus München\, Salvatorplatz 1\, München\, Bayern\, 80331\, Deutschland
CATEGORIES:M&A/Private Equity,Investment Funds,TAX,Venture Capital & Co.
ORGANIZER;CN="P+ Training GmbH":MAILTO:info@pptraining.de
GEO:48.1418942;11.5748838
X-APPLE-STRUCTURED-LOCATION;VALUE=URI;X-ADDRESS=Literaturhaus München Salvatorplatz 1 München Bayern 80331 Deutschland;X-APPLE-RADIUS=500;X-TITLE=Salvatorplatz 1:geo:11.5748838,48.1418942
END:VEVENT
END:VCALENDAR