BEGIN:VCALENDAR
VERSION:2.0
PRODID:-//Private Equity Magazin - ECPv6.15.20//NONSGML v1.0//EN
CALSCALE:GREGORIAN
METHOD:PUBLISH
X-ORIGINAL-URL:https://www.pe-magazin.de
X-WR-CALDESC:Events for Private Equity Magazin
REFRESH-INTERVAL;VALUE=DURATION:PT1H
X-Robots-Tag:noindex
X-PUBLISHED-TTL:PT1H
BEGIN:VTIMEZONE
TZID:Europe/Berlin
BEGIN:DAYLIGHT
TZOFFSETFROM:+0100
TZOFFSETTO:+0200
TZNAME:CEST
DTSTART:20180325T010000
END:DAYLIGHT
BEGIN:STANDARD
TZOFFSETFROM:+0200
TZOFFSETTO:+0100
TZNAME:CET
DTSTART:20181028T010000
END:STANDARD
BEGIN:DAYLIGHT
TZOFFSETFROM:+0100
TZOFFSETTO:+0200
TZNAME:CEST
DTSTART:20190331T010000
END:DAYLIGHT
BEGIN:STANDARD
TZOFFSETFROM:+0200
TZOFFSETTO:+0100
TZNAME:CET
DTSTART:20191027T010000
END:STANDARD
BEGIN:DAYLIGHT
TZOFFSETFROM:+0100
TZOFFSETTO:+0200
TZNAME:CEST
DTSTART:20200329T010000
END:DAYLIGHT
BEGIN:STANDARD
TZOFFSETFROM:+0200
TZOFFSETTO:+0100
TZNAME:CET
DTSTART:20201025T010000
END:STANDARD
END:VTIMEZONE
BEGIN:VEVENT
DTSTART;TZID=Europe/Berlin:20190916T173000
DTEND;TZID=Europe/Berlin:20190916T173000
DTSTAMP:20260426T025217
CREATED:20181218T193850Z
LAST-MODIFIED:20190709T091629Z
UID:19825-1568655000-1568655000@www.pe-magazin.de
SUMMARY:72. Berliner Steuergespräche
DESCRIPTION:Seit dem Frühjahr 2002 veranstalten der Bundesverband der Deutschen Industrie (BDI) und die Kanzlei P+P Pöllath + Partners die Berliner Steuergespräche. Diese Gespräche dienen als Forum für alle\, die sich in der Hauptstadt in ihrer täglichen beruflichen Arbeit mit steuerrechtlichen und steuerpolitischen Fragen auseinandersetzen. \nZiel der vierteljährlichen Gesprächsreihe ist es\, zwischen Vertretern aus Politik\, Wirtschaft\, Rechtsprechung\, Wissenschaft und Beratung einen Erfahrungs- und Meinungsaustausch zu implementieren: Keine Nabelschau des Steuerrechts\, sondern vor allem Reflektion der in Berlin getroffenen Entscheidungen des Gesetzgebers und der Auswirkungen für die steuerrechtliche Praxis. \nDer Berliner Steuergespräche e.V. bezweckt die Förderung des Steuerrechts auf dem Gebiet der Wissenschaft\, Forschung und Bildung\, insbesondere durch Unterstützung von steuerwissenschaftlichen Fachgesprächen und Fachdiskussionen zwischen politischen Funktionsträgern\, Steuerjuristen\, Angehörigen der steuerberatenden Berufe\, Richterschaft und Verwaltung\, von in Forschung und Lehre sowie sonstigen im Steuerwesen tätigen Personen. \nWeitere Informationen zum Verein und der Veranstaltungsreihe finden Sie hier.
URL:https://www.pe-magazin.de/termin/72-berliner-steuergespraeche/
LOCATION:Haus der Deutschen Wirtschaft\, Breite Straße 29\, Berlin\, 10178
CATEGORIES:TAX
GEO:52,5151126;13,4052402
X-APPLE-STRUCTURED-LOCATION;VALUE=URI;X-ADDRESS=Haus der Deutschen Wirtschaft Breite Straße 29 Berlin 10178;X-APPLE-RADIUS=500;X-TITLE=Breite Straße 29:geo:13,4052402,52,5151126
END:VEVENT
END:VCALENDAR