BEGIN:VCALENDAR
VERSION:2.0
PRODID:-//Private Equity Magazin - ECPv6.15.20//NONSGML v1.0//EN
CALSCALE:GREGORIAN
METHOD:PUBLISH
X-WR-CALNAME:Private Equity Magazin
X-ORIGINAL-URL:https://www.pe-magazin.de
X-WR-CALDESC:Events for Private Equity Magazin
REFRESH-INTERVAL;VALUE=DURATION:PT1H
X-Robots-Tag:noindex
X-PUBLISHED-TTL:PT1H
BEGIN:VTIMEZONE
TZID:Europe/Berlin
BEGIN:DAYLIGHT
TZOFFSETFROM:+0100
TZOFFSETTO:+0200
TZNAME:CEST
DTSTART:20200329T010000
END:DAYLIGHT
BEGIN:STANDARD
TZOFFSETFROM:+0200
TZOFFSETTO:+0100
TZNAME:CET
DTSTART:20201025T010000
END:STANDARD
BEGIN:DAYLIGHT
TZOFFSETFROM:+0100
TZOFFSETTO:+0200
TZNAME:CEST
DTSTART:20210328T010000
END:DAYLIGHT
BEGIN:STANDARD
TZOFFSETFROM:+0200
TZOFFSETTO:+0100
TZNAME:CET
DTSTART:20211031T010000
END:STANDARD
BEGIN:DAYLIGHT
TZOFFSETFROM:+0100
TZOFFSETTO:+0200
TZNAME:CEST
DTSTART:20220327T010000
END:DAYLIGHT
BEGIN:STANDARD
TZOFFSETFROM:+0200
TZOFFSETTO:+0100
TZNAME:CET
DTSTART:20221030T010000
END:STANDARD
END:VTIMEZONE
BEGIN:VEVENT
DTSTART;TZID=Europe/Berlin:20210419T173000
DTEND;TZID=Europe/Berlin:20210419T173000
DTSTAMP:20260424T204924
CREATED:20210215T073947Z
LAST-MODIFIED:20210215T073947Z
UID:24768-1618853400-1618853400@www.pe-magazin.de
SUMMARY:78. Berliner Steuergespräche "Umweltschutz durch Steuerrecht?"
DESCRIPTION:Der Umwelt- und Klimaschutz hat im öffentlichen Diskurs einen hohen Stellenwert in der gegenwärtigen politischen und gesellschaftlichen Diskussion. Internationale Vereinbarungen zur Minderung der Treibhausgas-Emissionen werfen ihre Schatten auch für den nationalen Gesetzgeber voraus. \nVor diesem Hintergrund werden in der Politik unterschiedliche Wege diskutiert\, um die CO2-Minderungsziele zu erreichen. Auch das Steuerrecht wird in die klimaschutzrelevanten Zielvorgaben einbezogen und kann einen wesentlichen Beitrag hierzu leisten. Die Attraktivität umwelt- und klimaschädlichen Verhaltens kann durch abgabenrechtliche Instrumente ebenso eingeschränkt werden wie eine Förderung umwelt- und klimaschützenden Verhaltens durch steuerliche Anreize möglich ist. Dies zeigt\, wie breit das Spektrum der politischen Handlungsalternativen ist\, und dass es von der generellen Einführung einer CO2-Besteuerung über die steuerliche Pönalisierung bis zur Incentivierung reicht. \nMit dem sogenannten Klimapaket hat die Bundesregierung im September 2019 einen ersten Aufschlag gemacht und mögliche Maßnahmen vorgestellt. Diese und weitergehende Überlegungen hierzu müssen sich an den europa- und verfassungsrechtlichen Vorgaben messen lassen. \nÜber Möglichkeiten und Grenzen der Förderung des Umwelt- und Klimaschutzes mithilfe des Steuerrechts sowie die europa- und verfassungsrechtlichen Herausforderungen umweltökonomischer Lenkungsabgaben wollen wir im Rahmen der 78. Berliner Steuergespräche mit den Referenten\, den Podiumsgästen und dem Auditorium diskutieren. \nOnline-Veranstaltung\nam\n19. April 2021\, 17.30 Uhr \n  \nWeitere Informationen zur Veranstaltung sowie zur Anmeldung finden Sie auf den Seiten des Veranstalters.
URL:https://www.pe-magazin.de/termin/78-berliner-steuergespraeche-umweltschutz-durch-steuerrecht/
LOCATION:ONLINE
CATEGORIES:TAX
END:VEVENT
END:VCALENDAR