BEGIN:VCALENDAR
VERSION:2.0
PRODID:-//Private Equity Magazin - ECPv6.15.20//NONSGML v1.0//EN
CALSCALE:GREGORIAN
METHOD:PUBLISH
X-ORIGINAL-URL:https://www.pe-magazin.de
X-WR-CALDESC:Events for Private Equity Magazin
REFRESH-INTERVAL;VALUE=DURATION:PT1H
X-Robots-Tag:noindex
X-PUBLISHED-TTL:PT1H
BEGIN:VTIMEZONE
TZID:Europe/Berlin
BEGIN:DAYLIGHT
TZOFFSETFROM:+0100
TZOFFSETTO:+0200
TZNAME:CEST
DTSTART:20210328T010000
END:DAYLIGHT
BEGIN:STANDARD
TZOFFSETFROM:+0200
TZOFFSETTO:+0100
TZNAME:CET
DTSTART:20211031T010000
END:STANDARD
BEGIN:DAYLIGHT
TZOFFSETFROM:+0100
TZOFFSETTO:+0200
TZNAME:CEST
DTSTART:20220327T010000
END:DAYLIGHT
BEGIN:STANDARD
TZOFFSETFROM:+0200
TZOFFSETTO:+0100
TZNAME:CET
DTSTART:20221030T010000
END:STANDARD
BEGIN:DAYLIGHT
TZOFFSETFROM:+0100
TZOFFSETTO:+0200
TZNAME:CEST
DTSTART:20230326T010000
END:DAYLIGHT
BEGIN:STANDARD
TZOFFSETFROM:+0200
TZOFFSETTO:+0100
TZNAME:CET
DTSTART:20231029T010000
END:STANDARD
END:VTIMEZONE
BEGIN:VEVENT
DTSTART;TZID=Europe/Berlin:20220629T173000
DTEND;TZID=Europe/Berlin:20220629T193000
DTSTAMP:20260423T180311
CREATED:20220127T171816Z
LAST-MODIFIED:20220127T171816Z
UID:26585-1656523800-1656531000@www.pe-magazin.de
SUMMARY:36. Münchner Unternehmenssteuerforum
DESCRIPTION:Das Münchner Unternehmenssteuerforum widmet sich der Förderung des Steuerrechts\, insbesondere durch steuerwissenschaftliche Fachdiskussionen zwischen Repräsentanten der Richterschaft\, der Finanzverwaltung und der Wissenschaft sowie Experten aus der Wirtschaft und der steuer- und rechtsberatenden Berufe. \nDas 36. Münchner Unternehmenssteuerforum findet statt \nam 29. Juni 2022\, 17.30 – 19.30 Uhr.  \n  \nWeitere Informationen zur Veranstaltung finden Sie hier.
URL:https://www.pe-magazin.de/termin/36-muenchner-unternehmenssteuerforum/
LOCATION:Literaturhaus München\, Salvatorplatz 1\, München\, Bayern\, 80331\, Deutschland
CATEGORIES:TAX
GEO:48.1418942;11.5748838
X-APPLE-STRUCTURED-LOCATION;VALUE=URI;X-ADDRESS=Literaturhaus München Salvatorplatz 1 München Bayern 80331 Deutschland;X-APPLE-RADIUS=500;X-TITLE=Salvatorplatz 1:geo:11.5748838,48.1418942
END:VEVENT
BEGIN:VEVENT
DTSTART;VALUE=DATE:20220630
DTEND;VALUE=DATE:20220701
DTSTAMP:20260423T180311
CREATED:20211207T161006Z
LAST-MODIFIED:20220612T143420Z
UID:26343-1656547200-1656633599@www.pe-magazin.de
SUMMARY:Munich Private Equity Training (MUPET) 2022
DESCRIPTION:Auf der MUPET Munich Private Equity Training werden jährlich die aktuellen Themen und Entwicklungen der Private Equity-Branche vorgestellt und diskutiert. Als marktführende Private Equity-Veranstaltung in Deutschland bietet sie zahlreiche Vorträge und Paneldiskussionen mit führenden Expertinnen und Experten in den Bereichen Private Funds\, M&A und Tax. \nDie Teilnahmegebühr liegt bei 750\,00 Euro netto. Diese beinhaltet die ganztägige Präsenzteilnahme vor Ort in München sowie die Tagungsunterlagen. Außerdem werden alle Beiträge aufgezeichnet und stehen den Teilnehmenden im Nachgang als Video on Demand bis zum 24. Juli 2022 zur Verfügung. \nDie Anmeldung ist ab sofort möglich! Registrieren Sie sich hier! \nSie wollen mehr wissen? Hier geht’s zum Programm der MUPET 2022
URL:https://www.pe-magazin.de/termin/munich-private-equity-training-mupet-2022/
LOCATION:Literaturhaus München\, Salvatorplatz 1\, München\, Bayern\, 80331\, Deutschland
CATEGORIES:M&A/Private Equity,Investment Funds,TAX,Venture Capital & Co.
ORGANIZER;CN="P+ Training GmbH":MAILTO:info@pptraining.de
GEO:48.1418942;11.5748838
X-APPLE-STRUCTURED-LOCATION;VALUE=URI;X-ADDRESS=Literaturhaus München Salvatorplatz 1 München Bayern 80331 Deutschland;X-APPLE-RADIUS=500;X-TITLE=Salvatorplatz 1:geo:11.5748838,48.1418942
END:VEVENT
END:VCALENDAR