BEGIN:VCALENDAR
VERSION:2.0
PRODID:-//Private Equity Magazin - ECPv6.15.20//NONSGML v1.0//EN
CALSCALE:GREGORIAN
METHOD:PUBLISH
X-WR-CALNAME:Private Equity Magazin
X-ORIGINAL-URL:https://www.pe-magazin.de
X-WR-CALDESC:Events for Private Equity Magazin
REFRESH-INTERVAL;VALUE=DURATION:PT1H
X-Robots-Tag:noindex
X-PUBLISHED-TTL:PT1H
BEGIN:VTIMEZONE
TZID:Europe/Berlin
BEGIN:DAYLIGHT
TZOFFSETFROM:+0100
TZOFFSETTO:+0200
TZNAME:CEST
DTSTART:20210328T010000
END:DAYLIGHT
BEGIN:STANDARD
TZOFFSETFROM:+0200
TZOFFSETTO:+0100
TZNAME:CET
DTSTART:20211031T010000
END:STANDARD
BEGIN:DAYLIGHT
TZOFFSETFROM:+0100
TZOFFSETTO:+0200
TZNAME:CEST
DTSTART:20220327T010000
END:DAYLIGHT
BEGIN:STANDARD
TZOFFSETFROM:+0200
TZOFFSETTO:+0100
TZNAME:CET
DTSTART:20221030T010000
END:STANDARD
BEGIN:DAYLIGHT
TZOFFSETFROM:+0100
TZOFFSETTO:+0200
TZNAME:CEST
DTSTART:20230326T010000
END:DAYLIGHT
BEGIN:STANDARD
TZOFFSETFROM:+0200
TZOFFSETTO:+0100
TZNAME:CET
DTSTART:20231029T010000
END:STANDARD
END:VTIMEZONE
BEGIN:VEVENT
DTSTART;TZID=Europe/Berlin:20220919T173000
DTEND;TZID=Europe/Berlin:20220919T193000
DTSTAMP:20260423T134119
CREATED:20211203T173719Z
LAST-MODIFIED:20220823T081607Z
UID:26310-1663608600-1663615800@www.pe-magazin.de
SUMMARY:84. Berliner Steuergespräche "Die Umsetzung der GloBE-Richtlinie"
DESCRIPTION:Seit dem Frühjahr 2002 veranstalten der Bundesverband der Deutschen Industrie (BDI) und POELLATH die Berliner Steuergespräche. Diese Gespräche dienen als Forum für alle\, die sich in der Hauptstadt in ihrer täglichen beruflichen Arbeit mit steuerrechtlichen und steuerpolitischen Fragen auseinandersetzen. Ziel der vierteljährlichen Gesprächsreihe ist es\, zwischen Vertretern aus Politik\, Wirtschaft\, Rechtsprechung\, Wissenschaft und Beratung einen Erfahrungs- und Meinungsaustausch zu implementieren: Keine Nabelschau des Steuerrechts\, sondern vor allem Reflektion der in Berlin getroffenen Entscheidungen des Gesetzgebers und der Auswirkungen für die steuerrechtliche Praxis. \n84. BERLINER STEUERGESPRÄCHE\n„Die Umsetzung der GloBE-Richtlinie“\nam 19. September 2022 | 17.30 bis 19.30 Uhr \nInhalt\nNachdem die OECD am 20.12.2021 die „Global anti-Base Erosion Rules“ (GloBE rules) veröffentlichte\, ging es schnell. Bereits zwei Tage später legte die EU-Kommission einen entsprechenden Richtlinienentwurf (GloBE-Richtlinie) vor\, mit dessen Hilfe eine globale Mindestbesteuerung von multinationalen Unternehmen durch die EU-Mitgliedstaaten umgesetzt werden soll. \nDie angestrebte Mindestbesteuerung betrifft Konzerne mit einem Gesamtumsatz von mindestens EUR 750 Mio. und soll eine Steuerlast dieser Konzerne und deren Tochtergesellschaften von 15% gewährleisten. Dazu stehen den Mitgliedstaaten zwei Instrumente zur Verfügung. Nach der „Income Inclusion Rule“ (IIR) wird einer Muttergesellschaft eine Ergänzungssteuer auferlegt\, soweit die Einkünfte ihrer Tochtergesellschaften oder der Muttergesellschaft selbst mit weniger als 15% besteuert werden. Als subsidiärer Auffangmechanismus dient die „Undertaxed Payments Rule“ (UTPR). Danach sind die Tochtergesellschaften Subjekte der Ergänzungssteuer\, welche nach einem Schlüssel unter den zugriffsberechtigten Mitgliedstaaten aufgeteilt wird. \nDie bis zum 01.01.2023 beabsichtigte Umsetzung wirft in ihrer Regelungsdichte einige steuerrechtliche\, rechtssystematische und praxisrelevante Fragen auf. \nREFERENTEN:\nMartin Kreienbaum (Bundesministerium der Finanzen)\nOliver Nußbaum (BASF SE) \nPODIUM:\nProf. Dr. Roland Ismer (Universität Erlangen-Nürnberg)\nDr. Arne Schnitger (PricewaterhouseCoopers GmbH)\nDr. Achim Pross (OECD Organisation for Economic Co-Operation and Development)\nDr. Monika Wünnemann (BDI Bundesverband der Deutschen Industrie e.V.) \nDie 84. Berliner Steuergespräche sind als hybride Veranstaltung konzipiert\, d.h. die Veranstaltung findet in Präsenz statt und wird zusätzlich live übertragen. Den Link zur Online-Veranstaltung finden Sie zum Veranstaltungszeitpunkt hier. \nKosten und Anmeldung\nDie Teilnahme an der Veranstaltung ist kostenfrei. Für weitere Informationen zur Veranstaltung klicken Sie hier.
URL:https://www.pe-magazin.de/termin/84-berliner-steuergespraeche/
LOCATION:Haus der Deutschen Wirtschaft\, Breite Straße 29\, Berlin\, 10178
CATEGORIES:TAX
GEO:52,5151126;13,4052402
X-APPLE-STRUCTURED-LOCATION;VALUE=URI;X-ADDRESS=Haus der Deutschen Wirtschaft Breite Straße 29 Berlin 10178;X-APPLE-RADIUS=500;X-TITLE=Breite Straße 29:geo:13,4052402,52,5151126
END:VEVENT
END:VCALENDAR