BEGIN:VCALENDAR
VERSION:2.0
PRODID:-//Private Equity Magazin - ECPv6.15.20//NONSGML v1.0//EN
CALSCALE:GREGORIAN
METHOD:PUBLISH
X-ORIGINAL-URL:https://www.pe-magazin.de
X-WR-CALDESC:Events for Private Equity Magazin
REFRESH-INTERVAL;VALUE=DURATION:PT1H
X-Robots-Tag:noindex
X-PUBLISHED-TTL:PT1H
BEGIN:VTIMEZONE
TZID:Europe/Berlin
BEGIN:DAYLIGHT
TZOFFSETFROM:+0100
TZOFFSETTO:+0200
TZNAME:CEST
DTSTART:20210328T010000
END:DAYLIGHT
BEGIN:STANDARD
TZOFFSETFROM:+0200
TZOFFSETTO:+0100
TZNAME:CET
DTSTART:20211031T010000
END:STANDARD
BEGIN:DAYLIGHT
TZOFFSETFROM:+0100
TZOFFSETTO:+0200
TZNAME:CEST
DTSTART:20220327T010000
END:DAYLIGHT
BEGIN:STANDARD
TZOFFSETFROM:+0200
TZOFFSETTO:+0100
TZNAME:CET
DTSTART:20221030T010000
END:STANDARD
BEGIN:DAYLIGHT
TZOFFSETFROM:+0100
TZOFFSETTO:+0200
TZNAME:CEST
DTSTART:20230326T010000
END:DAYLIGHT
BEGIN:STANDARD
TZOFFSETFROM:+0200
TZOFFSETTO:+0100
TZNAME:CET
DTSTART:20231029T010000
END:STANDARD
END:VTIMEZONE
BEGIN:VEVENT
DTSTART;TZID=Europe/Berlin:20221026T173000
DTEND;TZID=Europe/Berlin:20221026T193000
DTSTAMP:20260423T122346
CREATED:20220826T072048Z
LAST-MODIFIED:20220826T072831Z
UID:27516-1666805400-1666812600@www.pe-magazin.de
SUMMARY:37. Münchner Unternehmenssteuerforum
DESCRIPTION:Das Münchner Unternehmenssteuerforum widmet sich der Förderung des Steuerrechts\, insbesondere durch steuerwissenschaftliche Fachdiskussionen zwischen Repräsentanten der Richterschaft\, der Finanzverwaltung und der Wissenschaft sowie Experten aus der Wirtschaft und der steuer- und rechtsberatenden Berufe. \nDas 37. Münchner Unternehmenssteuerforum findet statt am\n26. Oktober 2022\, 17.30 – 19.30 Uhr. \nSobald Thema und Format der Veranstaltung feststehen\, informieren wir Sie hier. Weitere Informationen zum Veranstaltungsformat finden Sie auch auf den Seiten des Veranstalters.
URL:https://www.pe-magazin.de/termin/37-muenchner-unternehmenssteuerforum/
LOCATION:Wird bald bekanntgegeben / To be confirmed shortly
CATEGORIES:TAX
END:VEVENT
END:VCALENDAR