BEGIN:VCALENDAR
VERSION:2.0
PRODID:-//Private Equity Magazin - ECPv6.15.20//NONSGML v1.0//EN
CALSCALE:GREGORIAN
METHOD:PUBLISH
X-WR-CALNAME:Private Equity Magazin
X-ORIGINAL-URL:https://www.pe-magazin.de
X-WR-CALDESC:Events for Private Equity Magazin
REFRESH-INTERVAL;VALUE=DURATION:PT1H
X-Robots-Tag:noindex
X-PUBLISHED-TTL:PT1H
BEGIN:VTIMEZONE
TZID:Europe/Berlin
BEGIN:DAYLIGHT
TZOFFSETFROM:+0100
TZOFFSETTO:+0200
TZNAME:CEST
DTSTART:20220327T010000
END:DAYLIGHT
BEGIN:STANDARD
TZOFFSETFROM:+0200
TZOFFSETTO:+0100
TZNAME:CET
DTSTART:20221030T010000
END:STANDARD
BEGIN:DAYLIGHT
TZOFFSETFROM:+0100
TZOFFSETTO:+0200
TZNAME:CEST
DTSTART:20230326T010000
END:DAYLIGHT
BEGIN:STANDARD
TZOFFSETFROM:+0200
TZOFFSETTO:+0100
TZNAME:CET
DTSTART:20231029T010000
END:STANDARD
BEGIN:DAYLIGHT
TZOFFSETFROM:+0100
TZOFFSETTO:+0200
TZNAME:CEST
DTSTART:20240331T010000
END:DAYLIGHT
BEGIN:STANDARD
TZOFFSETFROM:+0200
TZOFFSETTO:+0100
TZNAME:CET
DTSTART:20241027T010000
END:STANDARD
END:VTIMEZONE
BEGIN:VEVENT
DTSTART;TZID=Europe/Berlin:20230612T173000
DTEND;TZID=Europe/Berlin:20230612T193000
DTSTAMP:20260422T231718
CREATED:20230301T091550Z
LAST-MODIFIED:20230301T091550Z
UID:28115-1686591000-1686598200@www.pe-magazin.de
SUMMARY:87. Berliner Steuergespräche "Die Mehrwertsteuer im digitalen Zeitalter"
DESCRIPTION:Die EU-Umsatzsteuer kann mit dem technologischen Fortschritt und den damit einhergehenden Veränderungen des Wirtschaftslebens im digitalen Zeitalter nicht immer mithalten. Die EU-weite „Mehrwertsteuerlücke“ betrug im Jahr 2020 ca. 93 Mrd. Euro. Um die Funktionsfähigkeit der Besteuerung sicherzustellen und gegen Betrug zu sichern\, hat die Europäische Kommission eine Reihe von Maßnahmen vorgeschlagen. \nKernpunkte sind die Einführung einer digitalen Meldung in Echtzeit auf Grundlage der elektronischen Rechnungstellung sowie einer Mehrwertsteuerregistrierung und die Verpflichtung von Plattformbetreibern\, im Bedarfsfall Mehrwertsteuer zu erheben und abzuführen. Ob diese Schritte vor dem Hintergrund der verfolgten Ziele effektiv und notwendig sind und wie ihre Umsetzung gelingt\, ist Gegenstand der öffentlichen Diskussion. Erörterungswürdig sind neben der Gratwanderung zwischen erforderlicher Neuregelung und drohender Überregulierung auch Aspekte der Datensicherheit sowie eine mögliche Sonderbesteuerung der Internetwirtschaft. \nIm Rahmen des 87. Berliner Steuergesprächs möchten wir mit den Referenten\, den Mit-Diskutanten und den Teilnehmenden über diese und weitere Aspekte im Zusammenhang mit der Umsatzbesteuerung im digitalen Zeitalter diskutieren. \n12. Juni 2023\, 17.30 – 19.30 Uhr\nHaus der Deutschen Wirtschaft\nBreite Straße 29\, 10178 Berlin \nPodium\nProf. Dr. Roland Ismer | Universität Erlangen-Nürnberg \nDr. Lars Dobratz | Europäische Kommission \nAndreas Treiber | Richter am Bundesfinanzhof \nAlexander Kollmann | Schwarz Gruppe \nGesprächsleitung: \nProf. Dr. Thomas Stapperfend | Präsident des Finanzgerichts Berlin-Brandenburg
URL:https://www.pe-magazin.de/termin/87-berliner-steuergespraeche-die-mehrwertsteuer-im-digitalen-zeitalter/
LOCATION:Haus der Deutschen Wirtschaft\, Breite Straße 29\, Berlin\, 10178
CATEGORIES:TAX
GEO:52,5151126;13,4052402
X-APPLE-STRUCTURED-LOCATION;VALUE=URI;X-ADDRESS=Haus der Deutschen Wirtschaft Breite Straße 29 Berlin 10178;X-APPLE-RADIUS=500;X-TITLE=Breite Straße 29:geo:13,4052402,52,5151126
END:VEVENT
BEGIN:VEVENT
DTSTART;TZID=Europe/Berlin:20230615T090000
DTEND;TZID=Europe/Berlin:20230615T183000
DTSTAMP:20260422T231718
CREATED:20221205T165905Z
LAST-MODIFIED:20221205T165905Z
UID:27845-1686819600-1686853800@www.pe-magazin.de
SUMMARY:Munich Private Equity Training (MUPET) 2023
DESCRIPTION:Auf der MUPET Munich Private Equity Training werden jährlich die aktuellen Themen und Entwicklungen der Private Equity-Branche vorgestellt und diskutiert. Als eine der marktführenden Private Equity-Veranstaltungen in Deutschland bietet sie zahlreiche Vorträge und Paneldiskussionen mit führenden Expertinnen und Experten in den Bereichen Private Funds\, M&A und Tax. \nDie MUPET 2023 findet statt am\n15. Juni 2023\nim Literaturhaus München. \nWeitere Informationen finden Sie auf unserer MUPET-Seite.
URL:https://www.pe-magazin.de/termin/munich-private-equity-training-mupet-2023/
LOCATION:Literaturhaus München\, Salvatorplatz 1\, München\, Bayern\, 80331\, Deutschland
CATEGORIES:M&A/Private Equity,Investment Funds,TAX,Venture Capital & Co.
ORGANIZER;CN="P+ Training GmbH":MAILTO:info@pptraining.de
GEO:48.1418942;11.5748838
X-APPLE-STRUCTURED-LOCATION;VALUE=URI;X-ADDRESS=Literaturhaus München Salvatorplatz 1 München Bayern 80331 Deutschland;X-APPLE-RADIUS=500;X-TITLE=Salvatorplatz 1:geo:11.5748838,48.1418942
END:VEVENT
END:VCALENDAR