BEGIN:VCALENDAR
VERSION:2.0
PRODID:-//Private Equity Magazin - ECPv6.15.20//NONSGML v1.0//EN
CALSCALE:GREGORIAN
METHOD:PUBLISH
X-ORIGINAL-URL:https://www.pe-magazin.de
X-WR-CALDESC:Events for Private Equity Magazin
REFRESH-INTERVAL;VALUE=DURATION:PT1H
X-Robots-Tag:noindex
X-PUBLISHED-TTL:PT1H
BEGIN:VTIMEZONE
TZID:Europe/Berlin
BEGIN:DAYLIGHT
TZOFFSETFROM:+0100
TZOFFSETTO:+0200
TZNAME:CEST
DTSTART:20230326T010000
END:DAYLIGHT
BEGIN:STANDARD
TZOFFSETFROM:+0200
TZOFFSETTO:+0100
TZNAME:CET
DTSTART:20231029T010000
END:STANDARD
BEGIN:DAYLIGHT
TZOFFSETFROM:+0100
TZOFFSETTO:+0200
TZNAME:CEST
DTSTART:20240331T010000
END:DAYLIGHT
BEGIN:STANDARD
TZOFFSETFROM:+0200
TZOFFSETTO:+0100
TZNAME:CET
DTSTART:20241027T010000
END:STANDARD
BEGIN:DAYLIGHT
TZOFFSETFROM:+0100
TZOFFSETTO:+0200
TZNAME:CEST
DTSTART:20250330T010000
END:DAYLIGHT
BEGIN:STANDARD
TZOFFSETFROM:+0200
TZOFFSETTO:+0100
TZNAME:CET
DTSTART:20251026T010000
END:STANDARD
END:VTIMEZONE
BEGIN:VEVENT
DTSTART;TZID=Europe/Berlin:20240131T173000
DTEND;TZID=Europe/Berlin:20240131T193000
DTSTAMP:20260422T104932
CREATED:20231107T093903Z
LAST-MODIFIED:20231115T091135Z
UID:29213-1706722200-1706729400@www.pe-magazin.de
SUMMARY:41. Münchner Unternehmenssteuerforum
DESCRIPTION:Das 41. Münchner Unternehmenssteuerforum zum Thema „Bilanzsteuerrecht in der Prüfungs- und Gerichtspraxis“ findet am \nMittwoch\, 31. Januar 2024\,\n17.30 – 19.30 Uhr\nals Präsenzveranstaltung im Literaturhaus München statt. \nFür weitere Informationen bzw. die Anmeldung nutzen Sie bitte die Seite des Veranstalters. \n 
URL:https://www.pe-magazin.de/termin/41-muenchner-unternehmenssteuerforum/
LOCATION:Literaturhaus München\, Salvatorplatz 1\, München\, Bayern\, 80331\, Deutschland
CATEGORIES:TAX
GEO:48.1418942;11.5748838
X-APPLE-STRUCTURED-LOCATION;VALUE=URI;X-ADDRESS=Literaturhaus München Salvatorplatz 1 München Bayern 80331 Deutschland;X-APPLE-RADIUS=500;X-TITLE=Salvatorplatz 1:geo:11.5748838,48.1418942
END:VEVENT
END:VCALENDAR