BEGIN:VCALENDAR
VERSION:2.0
PRODID:-//Private Equity Magazin - ECPv6.15.20//NONSGML v1.0//EN
CALSCALE:GREGORIAN
METHOD:PUBLISH
X-ORIGINAL-URL:https://www.pe-magazin.de
X-WR-CALDESC:Events for Private Equity Magazin
REFRESH-INTERVAL;VALUE=DURATION:PT1H
X-Robots-Tag:noindex
X-PUBLISHED-TTL:PT1H
BEGIN:VTIMEZONE
TZID:Europe/Berlin
BEGIN:DAYLIGHT
TZOFFSETFROM:+0100
TZOFFSETTO:+0200
TZNAME:CEST
DTSTART:20240331T010000
END:DAYLIGHT
BEGIN:STANDARD
TZOFFSETFROM:+0200
TZOFFSETTO:+0100
TZNAME:CET
DTSTART:20241027T010000
END:STANDARD
BEGIN:DAYLIGHT
TZOFFSETFROM:+0100
TZOFFSETTO:+0200
TZNAME:CEST
DTSTART:20250330T010000
END:DAYLIGHT
BEGIN:STANDARD
TZOFFSETFROM:+0200
TZOFFSETTO:+0100
TZNAME:CET
DTSTART:20251026T010000
END:STANDARD
BEGIN:DAYLIGHT
TZOFFSETFROM:+0100
TZOFFSETTO:+0200
TZNAME:CEST
DTSTART:20260329T010000
END:DAYLIGHT
BEGIN:STANDARD
TZOFFSETFROM:+0200
TZOFFSETTO:+0100
TZNAME:CET
DTSTART:20261025T010000
END:STANDARD
END:VTIMEZONE
BEGIN:VEVENT
DTSTART;TZID=Europe/Berlin:20250310T173000
DTEND;TZID=Europe/Berlin:20250310T193000
DTSTAMP:20260419T213918
CREATED:20241210T102113Z
LAST-MODIFIED:20241210T102113Z
UID:30677-1741627800-1741635000@www.pe-magazin.de
SUMMARY:95. Berliner Steuergespräch "Vereinfachung der Arbeitnehmerbesteuerung"
DESCRIPTION:Seit dem Frühjahr 2002 veranstalten der Bundesverband der Deutschen Industrie (BDI) und POELLATH die Berliner Steuergespräche. Diese Gespräche dienen als Forum für alle\, die sich in der Hauptstadt in ihrer täglichen beruflichen Arbeit mit steuerrechtlichen und steuerpolitischen Fragen auseinandersetzen. \n95. Berliner Steuergespräch\, 10. März 2025\nVereinfachung der Arbeitnehmerbesteuerung durch Typisierung und Pauschalierung\nDie Vorschläge der Expertenkommission Bürgernahe Einkommensteuer \n  \nWeitere Informationen zur Veranstaltung finden Sie hier.
URL:https://www.pe-magazin.de/termin/95-berliner-steuergespraech-vereinfachung-der-arbeitnehmerbesteuerung/
LOCATION:Wird bald bekanntgegeben / To be confirmed shortly
CATEGORIES:TAX
END:VEVENT
END:VCALENDAR