BEGIN:VCALENDAR
VERSION:2.0
PRODID:-//Private Equity Magazin - ECPv6.15.20//NONSGML v1.0//EN
CALSCALE:GREGORIAN
METHOD:PUBLISH
X-WR-CALNAME:Private Equity Magazin
X-ORIGINAL-URL:https://www.pe-magazin.de
X-WR-CALDESC:Events for Private Equity Magazin
REFRESH-INTERVAL;VALUE=DURATION:PT1H
X-Robots-Tag:noindex
X-PUBLISHED-TTL:PT1H
BEGIN:VTIMEZONE
TZID:Europe/Berlin
BEGIN:DAYLIGHT
TZOFFSETFROM:+0100
TZOFFSETTO:+0200
TZNAME:CEST
DTSTART:20240331T010000
END:DAYLIGHT
BEGIN:STANDARD
TZOFFSETFROM:+0200
TZOFFSETTO:+0100
TZNAME:CET
DTSTART:20241027T010000
END:STANDARD
BEGIN:DAYLIGHT
TZOFFSETFROM:+0100
TZOFFSETTO:+0200
TZNAME:CEST
DTSTART:20250330T010000
END:DAYLIGHT
BEGIN:STANDARD
TZOFFSETFROM:+0200
TZOFFSETTO:+0100
TZNAME:CET
DTSTART:20251026T010000
END:STANDARD
BEGIN:DAYLIGHT
TZOFFSETFROM:+0100
TZOFFSETTO:+0200
TZNAME:CEST
DTSTART:20260329T010000
END:DAYLIGHT
BEGIN:STANDARD
TZOFFSETFROM:+0200
TZOFFSETTO:+0100
TZNAME:CET
DTSTART:20261025T010000
END:STANDARD
END:VTIMEZONE
BEGIN:VEVENT
DTSTART;TZID=Europe/Berlin:20250623T173000
DTEND;TZID=Europe/Berlin:20250623T193000
DTSTAMP:20260419T152748
CREATED:20250528T151922Z
LAST-MODIFIED:20250528T151922Z
UID:31244-1750699800-1750707000@www.pe-magazin.de
SUMMARY:96. Berliner Steuergespräch "Steuerpolitik in der neuen Legislaturperiode"
DESCRIPTION:Nach den ersten vermeintlichen Einigungen über mögliche „Sondervermögen“ im Rahmen der aktuellen Sondierungsgespräche zur Koalitionsbildung rücken die wirtschafts- und steuerpolitischen Themen zunehmend in den Fokus. Es stellt sich die Frage\, welche steuerrechtlichen Gesetzgebungsvorhaben in der 21. Legislaturperiode neben dem kurzfristig in Aussicht gestellten Investitions-Booster und der ab 2028 einsetzenden schrittweisen Senkung des Körperschaftsteuersatzes in Angriff genommen werden sollen\, und ob der Koalitionsvertrag die richtigen Weichenstellungen vornimmt. \nNeben steuerlichen Arbeitsanreizen und Vereinfachungen im Verfahren der Forschungszulage findet sich die Ankündigung\, den Mehrwertsteuersatz für Gastronomieumsätze dauerhaft auf 7% zu senken sowie die Entfernungspauschale zu erhöhen und die Einführung einer Arbeitstagepauschale zu prüfen. Doch wie passt das alles zusammen? Und mittels welcher Maßnahmen sollen die Steuerpflichtigen von Bürokratie entlastet werden? \n96. Berliner Steuergespräch\n23. Juni 2025 | 17.30 – 19.30 Uhr\nHumboldt-Universität zu Berlin | Senatssaal | Unter den Linden 6\, 10117 Berlin \nProgramm\nIMPULSVORTRAG\nProf. Dr. Frank Hechtner | Friedrich-Alexander-Universität \nPODIUM\nRobert Crumbach | Minister der Finanzen und für Europa des Landes Brandenburg\nStefan Evers | Senator für Finanzen Berlin\nFritz Güntzler\, MdB | Finanzpolitischer Sprecher\, CDU\nKatharina Beck\, MdB | Finanzpolitische Sprecherin\, Bündnis 90/Die Grünen (angefragt) \nGESPRÄCHSLEITUNG\nProf. Dr. Johanna Hey | Universität zu Köln \nAnmeldung\nDas 96. Berliner Steuergespräch findet als reine Präsenzveranstaltung statt. Ein Einlass ist nur nach vorheriger namentlicher Anmeldung möglich. Bitte beachten Sie\, dass die Teilnehmerzahl begrenzt ist. Wir empfehlen daher eine frühzeitige Anmeldung. Die Teilnahme ist kostenfrei. Hier geht’s zur Anmeldung
URL:https://www.pe-magazin.de/termin/96-berliner-steuergespraech-steuerpolitik-in-der-neuen-legislaturperiode/
LOCATION:Humboldt-Universität zu Berlin\, Unter den Linden 6\, Berlin\, 10117\, Germany
CATEGORIES:TAX
END:VEVENT
BEGIN:VEVENT
DTSTART;TZID=Europe/Berlin:20250625T173000
DTEND;TZID=Europe/Berlin:20250625T200000
DTSTAMP:20260419T152748
CREATED:20250624T101656Z
LAST-MODIFIED:20250624T101656Z
UID:31335-1750872600-1750881600@www.pe-magazin.de
SUMMARY:45. Münchner Unternehmenssteuerforum
DESCRIPTION:Die Finanzierung von Kapitalgesellschaften durch ihre Gesellschafter – sei es durch Darlehen oder sonstige Finanzierungsinstrumente – stellt ein zentrales Instrument zur Liquiditätsbeschaffung dar\, insbesondere in wirtschaftlich herausfordernden Zeiten. Umgekehrt ist gerade bei kleineren Gesellschaften auch die Darlehensgewährung an Gesellschafter durch ihre Gesellschaften ein gängiges Thema in steuerlichen Außenprüfungen. In steuerlicher Hinsicht stellen beide Arten der Fremdfinanzierung ein sensibles Gestaltungsfeld dar\, aus ganz unterschiedlichen Gründen. \n45. Münchner Unternehmenssteuerforum \n„Steuerliche Herausforderungen der Gesellschafter-Fremdfinanzierung“ \n25. Juni 2025 ab 17.30 Uhr | Bibliothek im Literaturhaus München | Salvatorplatz 1\, 80333 München \n  \nWeitere Informationen zur Veranstaltung finden Sie hier.
URL:https://www.pe-magazin.de/termin/45-muenchner-unternehmenssteuerforum/
LOCATION:Literaturhaus München\, Salvatorplatz 1\, München\, Bayern\, 80331\, Deutschland
CATEGORIES:TAX
GEO:48.1418942;11.5748838
X-APPLE-STRUCTURED-LOCATION;VALUE=URI;X-ADDRESS=Literaturhaus München Salvatorplatz 1 München Bayern 80331 Deutschland;X-APPLE-RADIUS=500;X-TITLE=Salvatorplatz 1:geo:11.5748838,48.1418942
END:VEVENT
BEGIN:VEVENT
DTSTART;VALUE=DATE:20250626
DTEND;VALUE=DATE:20250627
DTSTAMP:20260419T152748
CREATED:20240614T084130Z
LAST-MODIFIED:20240614T084130Z
UID:30027-1750896000-1750982399@www.pe-magazin.de
SUMMARY:Munich Private Equity Training (MUPET) 2025
DESCRIPTION:Auf der MUPET Munich Private Equity Training werden jährlich die aktuellen Themen und Entwicklungen der Private Equity-Branche vorgestellt und diskutiert. Als eine der marktführenden Private Equity-Veranstaltungen in Deutschland bietet sie zahlreiche Vorträge und Paneldiskussionen mit führenden Expertinnen und Experten in den Bereichen Private Funds\, M&A und Tax. \nDie MUPET 2025 findet statt am\n26. Juni 2025\nim Literaturhaus München. \nWeitere Informationen finden Sie auf unserer MUPET-Seite.
URL:https://www.pe-magazin.de/termin/munich-private-equity-training-mupet-2025/
LOCATION:Literaturhaus München\, Salvatorplatz 1\, München\, Bayern\, 80331\, Deutschland
CATEGORIES:M&A/Private Equity,Investment Funds,TAX
ORGANIZER;CN="P+ Training GmbH":MAILTO:info@pptraining.de
GEO:48.1418942;11.5748838
X-APPLE-STRUCTURED-LOCATION;VALUE=URI;X-ADDRESS=Literaturhaus München Salvatorplatz 1 München Bayern 80331 Deutschland;X-APPLE-RADIUS=500;X-TITLE=Salvatorplatz 1:geo:11.5748838,48.1418942
END:VEVENT
END:VCALENDAR