BEGIN:VCALENDAR
VERSION:2.0
PRODID:-//Private Equity Magazin - ECPv6.15.20//NONSGML v1.0//EN
CALSCALE:GREGORIAN
METHOD:PUBLISH
X-ORIGINAL-URL:https://www.pe-magazin.de
X-WR-CALDESC:Events for Private Equity Magazin
REFRESH-INTERVAL;VALUE=DURATION:PT1H
X-Robots-Tag:noindex
X-PUBLISHED-TTL:PT1H
BEGIN:VTIMEZONE
TZID:Europe/Berlin
BEGIN:DAYLIGHT
TZOFFSETFROM:+0100
TZOFFSETTO:+0200
TZNAME:CEST
DTSTART:20190331T010000
END:DAYLIGHT
BEGIN:STANDARD
TZOFFSETFROM:+0200
TZOFFSETTO:+0100
TZNAME:CET
DTSTART:20191027T010000
END:STANDARD
BEGIN:DAYLIGHT
TZOFFSETFROM:+0100
TZOFFSETTO:+0200
TZNAME:CEST
DTSTART:20200329T010000
END:DAYLIGHT
BEGIN:STANDARD
TZOFFSETFROM:+0200
TZOFFSETTO:+0100
TZNAME:CET
DTSTART:20201025T010000
END:STANDARD
BEGIN:DAYLIGHT
TZOFFSETFROM:+0100
TZOFFSETTO:+0200
TZNAME:CEST
DTSTART:20210328T010000
END:DAYLIGHT
BEGIN:STANDARD
TZOFFSETFROM:+0200
TZOFFSETTO:+0100
TZNAME:CET
DTSTART:20211031T010000
END:STANDARD
END:VTIMEZONE
BEGIN:VEVENT
DTSTART;TZID=Europe/Berlin:20200120T090000
DTEND;TZID=Europe/Berlin:20200120T170000
DTSTAMP:20260423T172823
CREATED:20191204T094548Z
LAST-MODIFIED:20191204T095327Z
UID:21906-1579510800-1579539600@www.pe-magazin.de
SUMMARY:Institutional Private Equity Investments 2020
DESCRIPTION:Im Rahmen der Veranstaltung diskutieren LPs ihre Private Equity Agenda für 2020. Schwerpunkte sind dabei \n\nILPA Principles 3.0 und Modell LPA\nBevorzugte Strukturierungsoptionen\nAktuelle rechtliche und regulatorische Trends\n\nTeilnehmerkreis und Anmeldung\nDie Veranstaltung richtet sich ausschließlich an gewerbliche bzw. selbständig tätige Teilnehmer. Weitere Informationen zum Programm sowie die Möglichkeit zur Anmeldung finden Sie hier.
URL:https://www.pe-magazin.de/termin/institutional-private-equity-investments-2020/
LOCATION:Hilton Frankfurt City Centre\, Hochstraße 4\, Frankfurt\, 60313\, Deutschland
CATEGORIES:Investment Funds
GEO:50,1168498;8,6771192
X-APPLE-STRUCTURED-LOCATION;VALUE=URI;X-ADDRESS=Hilton Frankfurt City Centre Hochstraße 4 Frankfurt 60313 Deutschland;X-APPLE-RADIUS=500;X-TITLE=Hochstraße 4:geo:8,6771192,50,1168498
END:VEVENT
END:VCALENDAR