BEGIN:VCALENDAR
VERSION:2.0
PRODID:-//Private Equity Magazin - ECPv6.15.20//NONSGML v1.0//EN
CALSCALE:GREGORIAN
METHOD:PUBLISH
X-WR-CALNAME:Private Equity Magazin
X-ORIGINAL-URL:https://www.pe-magazin.de
X-WR-CALDESC:Events for Private Equity Magazin
REFRESH-INTERVAL;VALUE=DURATION:PT1H
X-Robots-Tag:noindex
X-PUBLISHED-TTL:PT1H
BEGIN:VTIMEZONE
TZID:Europe/Berlin
BEGIN:DAYLIGHT
TZOFFSETFROM:+0100
TZOFFSETTO:+0200
TZNAME:CEST
DTSTART:20200329T010000
END:DAYLIGHT
BEGIN:STANDARD
TZOFFSETFROM:+0200
TZOFFSETTO:+0100
TZNAME:CET
DTSTART:20201025T010000
END:STANDARD
BEGIN:DAYLIGHT
TZOFFSETFROM:+0100
TZOFFSETTO:+0200
TZNAME:CEST
DTSTART:20210328T010000
END:DAYLIGHT
BEGIN:STANDARD
TZOFFSETFROM:+0200
TZOFFSETTO:+0100
TZNAME:CET
DTSTART:20211031T010000
END:STANDARD
BEGIN:DAYLIGHT
TZOFFSETFROM:+0100
TZOFFSETTO:+0200
TZNAME:CEST
DTSTART:20220327T010000
END:DAYLIGHT
BEGIN:STANDARD
TZOFFSETFROM:+0200
TZOFFSETTO:+0100
TZNAME:CET
DTSTART:20221030T010000
END:STANDARD
END:VTIMEZONE
BEGIN:VEVENT
DTSTART;TZID=Europe/Berlin:20210225T110000
DTEND;TZID=Europe/Berlin:20210225T121500
DTSTAMP:20260424T143757
CREATED:20201210T090326Z
LAST-MODIFIED:20201222T093107Z
UID:24443-1614250800-1614255300@www.pe-magazin.de
SUMMARY:Online-Seminar "Fund Secondaries in Corona-Zeiten"
DESCRIPTION:Unter dem Titel „Fund Secondaries in Corona-Zeiten: Marktzugang\, Liquiditätsoptionen und andere aktuelle Trends“ lädt der Bundesverband Alternative Investments (BAI) zu einem Fach-Webinar mit Vorträgen von ARDIAN und POELLATH ein. \n25. Februar 2020\n11.00 bis 12.15 Uhr \n  \nModeration: Frank Dornseifer\, Geschäftsführer BAI \nHier geht’s zur Anmeldung
URL:https://www.pe-magazin.de/termin/online-seminar-fund-secondaries-in-corona-zeiten/
CATEGORIES:Investment Funds
END:VEVENT
END:VCALENDAR