BEGIN:VCALENDAR
VERSION:2.0
PRODID:-//Private Equity Magazin - ECPv6.15.20//NONSGML v1.0//EN
CALSCALE:GREGORIAN
METHOD:PUBLISH
X-WR-CALNAME:Private Equity Magazin
X-ORIGINAL-URL:https://www.pe-magazin.de
X-WR-CALDESC:Events for Private Equity Magazin
REFRESH-INTERVAL;VALUE=DURATION:PT1H
X-Robots-Tag:noindex
X-PUBLISHED-TTL:PT1H
BEGIN:VTIMEZONE
TZID:Europe/Berlin
BEGIN:DAYLIGHT
TZOFFSETFROM:+0100
TZOFFSETTO:+0200
TZNAME:CEST
DTSTART:20170326T010000
END:DAYLIGHT
BEGIN:STANDARD
TZOFFSETFROM:+0200
TZOFFSETTO:+0100
TZNAME:CET
DTSTART:20171029T010000
END:STANDARD
BEGIN:DAYLIGHT
TZOFFSETFROM:+0100
TZOFFSETTO:+0200
TZNAME:CEST
DTSTART:20180325T010000
END:DAYLIGHT
BEGIN:STANDARD
TZOFFSETFROM:+0200
TZOFFSETTO:+0100
TZNAME:CET
DTSTART:20181028T010000
END:STANDARD
BEGIN:DAYLIGHT
TZOFFSETFROM:+0100
TZOFFSETTO:+0200
TZNAME:CEST
DTSTART:20190331T010000
END:DAYLIGHT
BEGIN:STANDARD
TZOFFSETFROM:+0200
TZOFFSETTO:+0100
TZNAME:CET
DTSTART:20191027T010000
END:STANDARD
END:VTIMEZONE
BEGIN:VEVENT
DTSTART;TZID=Europe/Berlin:20181031T180000
DTEND;TZID=Europe/Berlin:20181031T200000
DTSTAMP:20260425T180143
CREATED:20181008T123442Z
LAST-MODIFIED:20181008T123819Z
UID:19327-1541008800-1541016000@www.pe-magazin.de
SUMMARY:13. Funds Forum Frankfurt
DESCRIPTION:SAVE THE DATE\nSehr geehrte Damen und Herren\, \nwir freuen uns sehr\, das \n13. Funds Forum Frankfurt  \n„MiFID II: geschlossene Fonds und Finanzanlagenvermittler“ \nanzukündigen. \nDas Funds Forum findet am 31. Oktober 2018 im Literaturhaus Frankfurt von 18.00 bis 20.00 Uhr statt (Registrierung ab [17:30] Uhr). \nWir würden uns freuen\, wenn Sie und Ihre Kollegen sich den Termin vormerken würden; eine separate Einladung folgt in Kürze. \nInhaltlich wird sich das Funds Forum diesmal mit zwei Themen befassen: \n\nMiFID II und ihren Auswirkungen auf geschlossene Fonds\, insbesondere mit Blick auf den institutionellen Anlegerbereich\ndie aktuell geplanten Anpassungen des Rechts der Finanzanlagenvermittler nach § 34f GewO an MiFID II.\n\nMitglieder des Panels werden u.a. Dr. Florian Toncar\, Parlamentarischer Geschäftsführer der Fraktion der Freien Demokraten im Deutschen Bundestage sowie Prof. Dr. Petra Buck-Heeb von Juristische Fakultät der Leibniz Universität Hannover sein. \nIm Anschluss laden wir Sie herzlich zu einem kleinen Imbiss ein. Die Teilnahme ist kostenfrei\, selbstverständlich übernehmen wir für Sie die pauschale Versteuerung gemäß § 37b EStG. \nSie können sich ab sofort anmelden\, bitten nutzen Sie dafür die Online Anmeldung.
URL:https://www.pe-magazin.de/termin/13-funds-forum-frankfurt/
LOCATION:Literaturhaus Frankfurt\, Schöne Aussicht 2\, Frankfurt am Main\, Hessen\, 60311\, Deutschland
CATEGORIES:Investment Funds,Venture Capital & Co.
GEO:50.1093391;8.6920056
X-APPLE-STRUCTURED-LOCATION;VALUE=URI;X-ADDRESS=Literaturhaus Frankfurt Schöne Aussicht 2 Frankfurt am Main Hessen 60311 Deutschland;X-APPLE-RADIUS=500;X-TITLE=Schöne Aussicht 2:geo:8.6920056,50.1093391
END:VEVENT
END:VCALENDAR