BEGIN:VCALENDAR
VERSION:2.0
PRODID:-//Private Equity Magazin - ECPv6.15.20//NONSGML v1.0//EN
CALSCALE:GREGORIAN
METHOD:PUBLISH
X-ORIGINAL-URL:https://www.pe-magazin.de
X-WR-CALDESC:Events for Private Equity Magazin
REFRESH-INTERVAL;VALUE=DURATION:PT1H
X-Robots-Tag:noindex
X-PUBLISHED-TTL:PT1H
BEGIN:VTIMEZONE
TZID:Europe/Berlin
BEGIN:DAYLIGHT
TZOFFSETFROM:+0100
TZOFFSETTO:+0200
TZNAME:CEST
DTSTART:20180325T010000
END:DAYLIGHT
BEGIN:STANDARD
TZOFFSETFROM:+0200
TZOFFSETTO:+0100
TZNAME:CET
DTSTART:20181028T010000
END:STANDARD
BEGIN:DAYLIGHT
TZOFFSETFROM:+0100
TZOFFSETTO:+0200
TZNAME:CEST
DTSTART:20190331T010000
END:DAYLIGHT
BEGIN:STANDARD
TZOFFSETFROM:+0200
TZOFFSETTO:+0100
TZNAME:CET
DTSTART:20191027T010000
END:STANDARD
BEGIN:DAYLIGHT
TZOFFSETFROM:+0100
TZOFFSETTO:+0200
TZNAME:CEST
DTSTART:20200329T010000
END:DAYLIGHT
BEGIN:STANDARD
TZOFFSETFROM:+0200
TZOFFSETTO:+0100
TZNAME:CET
DTSTART:20201025T010000
END:STANDARD
END:VTIMEZONE
BEGIN:VEVENT
DTSTART;TZID=Europe/Berlin:20191121T180000
DTEND;TZID=Europe/Berlin:20191121T200000
DTSTAMP:20260424T172743
CREATED:20191113T081835Z
LAST-MODIFIED:20191113T081835Z
UID:21730-1574359200-1574366400@www.pe-magazin.de
SUMMARY:14. Funds Forum Frankfurt
DESCRIPTION:Manager alternativer Investmentfonds und (institutionelle) Investoren werden sich in den nächsten Jahren zunehmend mit gesetzlichen Vorschriften (insbesondere mit unmittelbar an-wendbaren EU-Verordnungen) und individuell vereinbarten Anforderungen im Bereich der ESG-Compliance auseinandersetzen müssen. Das bestehende Compliance Management ist daher oftmals noch in Bezug auf ESG-Risiken und Nachhaltigkeitsaspekte zu ergänzen. Im Rahmen der Veranstaltung sollen Bewusstsein für die Anforderungen geschaffen und mögliche Lösungsansätze diskutiert werden. \nDas 14. Funds Forum Frankfurt zum Thema „ESG-Compliance-Management: Anforderungen und Lösungsansätze für PE-Fonds und Investoren“ findet statt am \nDonnerstag\, 21. November 2019\nvon 18 bis 20 Uhr (Registrierung ab 17.30 Uhr). \nProgramm_14. Funds Forum Frankfurt \nDie Teilnahme ist kostenfrei\, der Veranstalter übernimmt die pauschale Versteuerung gemäß § 37b EStG. \nBitte nutzen Sie die Online-Anmeldung des Veranstalters. Nach erfolgreicher Registrierung erhalten Sie eine Teilnahmebestätigung.
URL:https://www.pe-magazin.de/termin/14-funds-forum-frankfurt/
LOCATION:Literaturhaus Frankfurt\, Schöne Aussicht 2\, Frankfurt am Main\, Hessen\, 60311\, Deutschland
CATEGORIES:Investment Funds
GEO:50.1093391;8.6920056
X-APPLE-STRUCTURED-LOCATION;VALUE=URI;X-ADDRESS=Literaturhaus Frankfurt Schöne Aussicht 2 Frankfurt am Main Hessen 60311 Deutschland;X-APPLE-RADIUS=500;X-TITLE=Schöne Aussicht 2:geo:8.6920056,50.1093391
END:VEVENT
END:VCALENDAR