BEGIN:VCALENDAR
VERSION:2.0
PRODID:-//Private Equity Magazin - ECPv6.15.20//NONSGML v1.0//EN
CALSCALE:GREGORIAN
METHOD:PUBLISH
X-ORIGINAL-URL:https://www.pe-magazin.de
X-WR-CALDESC:Events for Private Equity Magazin
REFRESH-INTERVAL;VALUE=DURATION:PT1H
X-Robots-Tag:noindex
X-PUBLISHED-TTL:PT1H
BEGIN:VTIMEZONE
TZID:Europe/Berlin
BEGIN:DAYLIGHT
TZOFFSETFROM:+0100
TZOFFSETTO:+0200
TZNAME:CEST
DTSTART:20200329T010000
END:DAYLIGHT
BEGIN:STANDARD
TZOFFSETFROM:+0200
TZOFFSETTO:+0100
TZNAME:CET
DTSTART:20201025T010000
END:STANDARD
BEGIN:DAYLIGHT
TZOFFSETFROM:+0100
TZOFFSETTO:+0200
TZNAME:CEST
DTSTART:20210328T010000
END:DAYLIGHT
BEGIN:STANDARD
TZOFFSETFROM:+0200
TZOFFSETTO:+0100
TZNAME:CET
DTSTART:20211031T010000
END:STANDARD
BEGIN:DAYLIGHT
TZOFFSETFROM:+0100
TZOFFSETTO:+0200
TZNAME:CEST
DTSTART:20220327T010000
END:DAYLIGHT
BEGIN:STANDARD
TZOFFSETFROM:+0200
TZOFFSETTO:+0100
TZNAME:CET
DTSTART:20221030T010000
END:STANDARD
END:VTIMEZONE
BEGIN:VEVENT
DTSTART;TZID=Europe/Berlin:20211028T180000
DTEND;TZID=Europe/Berlin:20211028T200000
DTSTAMP:20260423T064718
CREATED:20211011T082536Z
LAST-MODIFIED:20211011T082536Z
UID:26008-1635444000-1635451200@www.pe-magazin.de
SUMMARY:Funds Forum Frankfurt 2021
DESCRIPTION:Manager alternativer Investmentfonds und (institutionelle) Investoren müssen sich zunehmend mit gesetzlichen Transparenzerfordernissen (SFDR; Taxonomie-Verordnung) und individuell vereinbarten Anforderungen im Bereich der ESG-Compliance auseinandersetzen. Dies erfordert einen strukturierten Ansatz der mit der Festlegung einer eigenen ESG-Strategie beginnt und sich dann über die Entwicklung von entsprechenden Richtlinien und deren Integration in die Due Diligence Prozesse bis hin zum Monitoring der Investments fortsetzt. Dabei dürfte die Verfügbarkeit der notwendigen ESG-Daten stets eine zentrale Rolle spielen. \nFrankfurter Funds Forum\nThema: ESG im Investmentprozess\n28. Oktober 2021\, 18.00 bis 20.00 Uhr\nOnline-Übertragung mit Webex\nsowie in den Kanzleiräumen von POELLATH (An der Welle 3\, 60322 Frankfurt) \n  \nProgramm und Panelisten\n17.30 Uhr\nAnmeldung der Teilnehmenden vor Ort \nHinweis: Die Präsenzteilnahme unterliegt der 2G-Regelung (geimpft/genesen) – Bitte bringen Sie die nötigen Nachweise mit. Die Anzahl der verfügbaren Sitzplätze ist begrenzt\, es gilt „First come\, first served“. \n18.00 Uhr\nEinführungsvortrag: \nDr. Robert Eberius (POELLATH) \nim Anschluss\nPaneldiskussion unter der Leitung von Prof. Dirk Söhnholz (Soehnholz ESG GmbH) \nPanelisten:\n\nAntje Biber (Präsidentin des Verwaltungsrates & Head of SDG Office bei der FERI Gruppe)\nDr. Sandra Reich (Unternehmensberaterin im Bereich Sustainable Finance)\nJohannes Spaleck (Senior Manager für ESG and Responsible Services bei Tauw Deutschland)\nJegor Tokarevich (CEO vom Beratungs- und Reportingdienstleister Substance Over Form Ltd. (SOF))\nBernd Vogt\, CFA (Investmentmanager Alternative Investments & Head of ESG Alternative Assets bei Wealthcap)\n\nAnmeldung\nBitte nutzen Sie die Online-Registrierung des Veranstalters. Die Teilnahme an der Veranstaltung ist kostenfrei.
URL:https://www.pe-magazin.de/termin/funds-forum-frankfurt-2021/
LOCATION:ONLINE
CATEGORIES:Investment Funds
ORGANIZER;CN="P+ Training GmbH":MAILTO:info@pptraining.de
END:VEVENT
END:VCALENDAR