BEGIN:VCALENDAR
VERSION:2.0
PRODID:-//Private Equity Magazin - ECPv6.15.20//NONSGML v1.0//EN
CALSCALE:GREGORIAN
METHOD:PUBLISH
X-ORIGINAL-URL:https://www.pe-magazin.de
X-WR-CALDESC:Events for Private Equity Magazin
REFRESH-INTERVAL;VALUE=DURATION:PT1H
X-Robots-Tag:noindex
X-PUBLISHED-TTL:PT1H
BEGIN:VTIMEZONE
TZID:Europe/Berlin
BEGIN:DAYLIGHT
TZOFFSETFROM:+0100
TZOFFSETTO:+0200
TZNAME:CEST
DTSTART:20180325T010000
END:DAYLIGHT
BEGIN:STANDARD
TZOFFSETFROM:+0200
TZOFFSETTO:+0100
TZNAME:CET
DTSTART:20181028T010000
END:STANDARD
BEGIN:DAYLIGHT
TZOFFSETFROM:+0100
TZOFFSETTO:+0200
TZNAME:CEST
DTSTART:20190331T010000
END:DAYLIGHT
BEGIN:STANDARD
TZOFFSETFROM:+0200
TZOFFSETTO:+0100
TZNAME:CET
DTSTART:20191027T010000
END:STANDARD
BEGIN:DAYLIGHT
TZOFFSETFROM:+0100
TZOFFSETTO:+0200
TZNAME:CEST
DTSTART:20200329T010000
END:DAYLIGHT
BEGIN:STANDARD
TZOFFSETFROM:+0200
TZOFFSETTO:+0100
TZNAME:CET
DTSTART:20201025T010000
END:STANDARD
END:VTIMEZONE
BEGIN:VEVENT
DTSTART;TZID=Europe/Berlin:20191126T180000
DTEND;TZID=Europe/Berlin:20191126T210000
DTSTAMP:20260422T195219
CREATED:20190329T105009Z
LAST-MODIFIED:20190329T105009Z
UID:20361-1574791200-1574802000@www.pe-magazin.de
SUMMARY:Venture Nights 2019 in München – Modul 6: ICO/FinTech
DESCRIPTION:Inhalte und Teilnehmer\nDie Venture Nights richten sich an Start-ups mit Venture Capital-Ambitionen. Die Veranstaltung vermittelt alles\, was man in rechtlicher Hinsicht wissen muss\, um mit Business Angels\, Venture Capital-Gesellschaften oder anderen Investoren auf Augenhöhe die Bedingungen eines Investments zu verhandeln. Sie erfahren auch\, wie Sie das Unternehmen auf die jedem Investment vorausgehende Due Diligence vorbereiten\, um das Unternehmen dem potentiellen Investor optimal zu präsentieren. \nTermine\nDie Veranstaltung besteht aus sieben Modulen. Diese finden jeweils von [18:00] bis [21:00] Uhr in den Kanzleiräumen von P+P Pöllath + Partners in München statt. \nModul 1: 22.10. | VC-Verträge I\nModul 2: 29.10. | VC-Verträge II\nModul 3: 05.11. | Steuerrecht/Arbeitsrecht\nModul 4: 12.11. | IP-/IT-Recht und Datenschutz\nModul 5: 19.11. | Mitarbeiterbeteiligungen/ESOP\nModul 6: 26.11. | ICO/FinTech\nModul 7: 03.12. | Venture Capital Fonds \nKosten und Anmeldung\nDie Teilnahme kostet EUR 25\,- zzgl. MwSt. je Modul. Bei der Buchung aller sieben Module beträgt die Teilnahmegebühr 150\,- zzgl. MwSt. und beinhaltet alle Fachvorträge sowie Snacks und Getränke zu jedem Modul. \nBitte nutzen Sie die Onlineanmeldung des Veranstalters. \nAlternative Veranstaltungsreihe in Frankfurt\nDie Veranstaltungsreihe Venture Nights findet vom 10.10. bis 21.11.2019 auch in Frankfurt statt. Eine Übersicht der Termine finden Sie hier.
URL:https://www.pe-magazin.de/termin/venture-nights-2019-in-muenchen-modul-6-ico-fintech/
LOCATION:POELLATH in München\, Hofstatt 1 (Eingang Färbergraben 16)\, München\, Bayern\, 80331\, Deutschland
CATEGORIES:Venture Capital & Co.
ORGANIZER;CN="P+ Training GmbH":MAILTO:info@pptraining.de
GEO:48.1367971;11.5717277
X-APPLE-STRUCTURED-LOCATION;VALUE=URI;X-ADDRESS=POELLATH in München Hofstatt 1 (Eingang Färbergraben 16) München Bayern 80331 Deutschland;X-APPLE-RADIUS=500;X-TITLE=Hofstatt 1 (Eingang Färbergraben 16):geo:11.5717277,48.1367971
END:VEVENT
END:VCALENDAR