BEGIN:VCALENDAR
VERSION:2.0
PRODID:-//Private Equity Magazin - ECPv6.15.20//NONSGML v1.0//EN
CALSCALE:GREGORIAN
METHOD:PUBLISH
X-ORIGINAL-URL:https://www.pe-magazin.de
X-WR-CALDESC:Events for Private Equity Magazin
REFRESH-INTERVAL;VALUE=DURATION:PT1H
X-Robots-Tag:noindex
X-PUBLISHED-TTL:PT1H
BEGIN:VTIMEZONE
TZID:Europe/Berlin
BEGIN:DAYLIGHT
TZOFFSETFROM:+0100
TZOFFSETTO:+0200
TZNAME:CEST
DTSTART:20230326T010000
END:DAYLIGHT
BEGIN:STANDARD
TZOFFSETFROM:+0200
TZOFFSETTO:+0100
TZNAME:CET
DTSTART:20231029T010000
END:STANDARD
BEGIN:DAYLIGHT
TZOFFSETFROM:+0100
TZOFFSETTO:+0200
TZNAME:CEST
DTSTART:20240331T010000
END:DAYLIGHT
BEGIN:STANDARD
TZOFFSETFROM:+0200
TZOFFSETTO:+0100
TZNAME:CET
DTSTART:20241027T010000
END:STANDARD
BEGIN:DAYLIGHT
TZOFFSETFROM:+0100
TZOFFSETTO:+0200
TZNAME:CEST
DTSTART:20250330T010000
END:DAYLIGHT
BEGIN:STANDARD
TZOFFSETFROM:+0200
TZOFFSETTO:+0100
TZNAME:CET
DTSTART:20251026T010000
END:STANDARD
END:VTIMEZONE
BEGIN:VEVENT
DTSTART;TZID=Europe/Berlin:20241113T180000
DTEND;TZID=Europe/Berlin:20241113T200000
DTSTAMP:20260422T163945
CREATED:20240829T075443Z
LAST-MODIFIED:20241023T095034Z
UID:30327-1731520800-1731528000@www.pe-magazin.de
SUMMARY:29. Münchner M&A Forum "Einsatz von KI in Unternehmen und Kanzleien"
DESCRIPTION:Das 29. Münchner M&A Forum findet statt am 13. November 2024 von 18 bis 20 Uhr statt. Diesmal geht es um den „Einsatz von KI in Unternehmen und Kanzleien – Zwischen Realität und Vision“. \nInhalt\nEinführungsvorträge\n„Wie Künstliche Intelligenz die Weltwirtschaft verändert“\nProf. Dr. Patrick Glauner | Technische Hochschule Deggendorf \n„Kooperationen mit KI-Unternehmen: Die Rolle des Rechts am Beispiel von Joint Ventures sowie Know-How- und IP-Transfers“\nDr. Hilke Herchen | CMS\, Hamburg\nDr. Markus Kaulartz | CMS\, München \nPaneldiskussion\nModeration: Prof. Dr. Patrick Glauner\nMarc Geiger | Gleiss Lutz\, Stuttgart\nTobias Haar | General Counsel\, Aleph Alpha\, Heidelberg\nDr. Markus Kaulartz | CMS\, München \n  \nWeitere Informationen zur Veranstaltung finden Sie hier. \n 
URL:https://www.pe-magazin.de/termin/29-muenchner-ma-forum/
LOCATION:Literaturhaus München\, Salvatorplatz 1\, München\, Bayern\, 80331\, Deutschland
CATEGORIES:M&A/Private Equity
GEO:48.1418942;11.5748838
X-APPLE-STRUCTURED-LOCATION;VALUE=URI;X-ADDRESS=Literaturhaus München Salvatorplatz 1 München Bayern 80331 Deutschland;X-APPLE-RADIUS=500;X-TITLE=Salvatorplatz 1:geo:11.5748838,48.1418942
END:VEVENT
END:VCALENDAR