BEGIN:VCALENDAR
VERSION:2.0
PRODID:-//Private Equity Magazin - ECPv6.15.20//NONSGML v1.0//EN
CALSCALE:GREGORIAN
METHOD:PUBLISH
X-ORIGINAL-URL:https://www.pe-magazin.de
X-WR-CALDESC:Events for Private Equity Magazin
REFRESH-INTERVAL;VALUE=DURATION:PT1H
X-Robots-Tag:noindex
X-PUBLISHED-TTL:PT1H
BEGIN:VTIMEZONE
TZID:Europe/Berlin
BEGIN:DAYLIGHT
TZOFFSETFROM:+0100
TZOFFSETTO:+0200
TZNAME:CEST
DTSTART:20230326T010000
END:DAYLIGHT
BEGIN:STANDARD
TZOFFSETFROM:+0200
TZOFFSETTO:+0100
TZNAME:CET
DTSTART:20231029T010000
END:STANDARD
BEGIN:DAYLIGHT
TZOFFSETFROM:+0100
TZOFFSETTO:+0200
TZNAME:CEST
DTSTART:20240331T010000
END:DAYLIGHT
BEGIN:STANDARD
TZOFFSETFROM:+0200
TZOFFSETTO:+0100
TZNAME:CET
DTSTART:20241027T010000
END:STANDARD
BEGIN:DAYLIGHT
TZOFFSETFROM:+0100
TZOFFSETTO:+0200
TZNAME:CEST
DTSTART:20250330T010000
END:DAYLIGHT
BEGIN:STANDARD
TZOFFSETFROM:+0200
TZOFFSETTO:+0100
TZNAME:CET
DTSTART:20251026T010000
END:STANDARD
END:VTIMEZONE
BEGIN:VEVENT
DTSTART;TZID=Europe/Berlin:20240613T090000
DTEND;TZID=Europe/Berlin:20240613T183000
DTSTAMP:20260421T001612
CREATED:20230616T083403Z
LAST-MODIFIED:20230616T083403Z
UID:28630-1718269200-1718303400@www.pe-magazin.de
SUMMARY:Munich Private Equity Training (MUPET) 2024
DESCRIPTION:Auf der MUPET Munich Private Equity Training werden jährlich die aktuellen Themen und Entwicklungen der Private Equity-Branche vorgestellt und diskutiert. Als eine der marktführenden Private Equity-Veranstaltungen in Deutschland bietet sie zahlreiche Vorträge und Paneldiskussionen mit führenden Expertinnen und Experten in den Bereichen Private Funds\, M&A und Tax. \nDie MUPET 2024 findet statt am\n13. Juni 2024\nim Literaturhaus München. \nWeitere Informationen finden Sie auf unserer MUPET-Seite.
URL:https://www.pe-magazin.de/termin/munich-private-equity-training-mupet-2024/
LOCATION:Literaturhaus München\, Salvatorplatz 1\, München\, Bayern\, 80331\, Deutschland
CATEGORIES:Investment Funds,TAX,Venture Capital & Co.,M&A/Private Equity
ORGANIZER;CN="P+ Training GmbH":MAILTO:info@pptraining.de
GEO:48.1418942;11.5748838
X-APPLE-STRUCTURED-LOCATION;VALUE=URI;X-ADDRESS=Literaturhaus München Salvatorplatz 1 München Bayern 80331 Deutschland;X-APPLE-RADIUS=500;X-TITLE=Salvatorplatz 1:geo:11.5748838,48.1418942
END:VEVENT
END:VCALENDAR