BEGIN:VCALENDAR
VERSION:2.0
PRODID:-//Private Equity Magazin - ECPv6.15.20//NONSGML v1.0//EN
CALSCALE:GREGORIAN
METHOD:PUBLISH
X-ORIGINAL-URL:https://www.pe-magazin.de
X-WR-CALDESC:Events for Private Equity Magazin
REFRESH-INTERVAL;VALUE=DURATION:PT1H
X-Robots-Tag:noindex
X-PUBLISHED-TTL:PT1H
BEGIN:VTIMEZONE
TZID:Europe/Berlin
BEGIN:DAYLIGHT
TZOFFSETFROM:+0100
TZOFFSETTO:+0200
TZNAME:CEST
DTSTART:20220327T010000
END:DAYLIGHT
BEGIN:STANDARD
TZOFFSETFROM:+0200
TZOFFSETTO:+0100
TZNAME:CET
DTSTART:20221030T010000
END:STANDARD
BEGIN:DAYLIGHT
TZOFFSETFROM:+0100
TZOFFSETTO:+0200
TZNAME:CEST
DTSTART:20230326T010000
END:DAYLIGHT
BEGIN:STANDARD
TZOFFSETFROM:+0200
TZOFFSETTO:+0100
TZNAME:CET
DTSTART:20231029T010000
END:STANDARD
BEGIN:DAYLIGHT
TZOFFSETFROM:+0100
TZOFFSETTO:+0200
TZNAME:CEST
DTSTART:20240331T010000
END:DAYLIGHT
BEGIN:STANDARD
TZOFFSETFROM:+0200
TZOFFSETTO:+0100
TZNAME:CET
DTSTART:20241027T010000
END:STANDARD
END:VTIMEZONE
BEGIN:VEVENT
DTSTART;VALUE=DATE:20230317
DTEND;VALUE=DATE:20230319
DTSTAMP:20260420T061212
CREATED:20230210T145831Z
LAST-MODIFIED:20230210T145831Z
UID:28036-1679011200-1679183999@www.pe-magazin.de
SUMMARY:Invest Stuttgart
DESCRIPTION:Die Invest – Leitmesse und Kongress für Finanzen und Geldanlage – ist die größte Veranstaltung im deutschsprachigen Raum rund um Anlagethemen. Hier treffen AusstellerInnen auf private Anlegende\, Bankberatende\, Vermögensverwaltende\, MaklerInnen und DienstleisterInnen aus der Finanzwelt. Der lebendige Marktplatz der Finanzmesse mit zahlreichen Ausstellenden in der Halle und die Messe Grünes Geld bieten als Informationsplattformen den direkten Austausch mit hochkarätigen und bekannten FinanzexpertInnen. Parallel finden im ICS spannende Themenveranstaltungen statt. \nWeitere Informationen zur Veranstaltung finden Sie auf den Seiten des Veranstalters.
URL:https://www.pe-magazin.de/termin/invest-stuttgart/
LOCATION:Messe Stuttgart\, Messepiazza 1\, Stuttgart\, 70629
CATEGORIES:Investment Funds
END:VEVENT
END:VCALENDAR