BEGIN:VCALENDAR
VERSION:2.0
PRODID:-//Private Equity Magazin - ECPv6.15.20//NONSGML v1.0//EN
CALSCALE:GREGORIAN
METHOD:PUBLISH
X-WR-CALNAME:Private Equity Magazin
X-ORIGINAL-URL:https://www.pe-magazin.de
X-WR-CALDESC:Events for Private Equity Magazin
REFRESH-INTERVAL;VALUE=DURATION:PT1H
X-Robots-Tag:noindex
X-PUBLISHED-TTL:PT1H
BEGIN:VTIMEZONE
TZID:Europe/Berlin
BEGIN:DAYLIGHT
TZOFFSETFROM:+0100
TZOFFSETTO:+0200
TZNAME:CEST
DTSTART:20220327T010000
END:DAYLIGHT
BEGIN:STANDARD
TZOFFSETFROM:+0200
TZOFFSETTO:+0100
TZNAME:CET
DTSTART:20221030T010000
END:STANDARD
BEGIN:DAYLIGHT
TZOFFSETFROM:+0100
TZOFFSETTO:+0200
TZNAME:CEST
DTSTART:20230326T010000
END:DAYLIGHT
BEGIN:STANDARD
TZOFFSETFROM:+0200
TZOFFSETTO:+0100
TZNAME:CET
DTSTART:20231029T010000
END:STANDARD
BEGIN:DAYLIGHT
TZOFFSETFROM:+0100
TZOFFSETTO:+0200
TZNAME:CEST
DTSTART:20240331T010000
END:DAYLIGHT
BEGIN:STANDARD
TZOFFSETFROM:+0200
TZOFFSETTO:+0100
TZNAME:CET
DTSTART:20241027T010000
END:STANDARD
END:VTIMEZONE
BEGIN:VEVENT
DTSTART;TZID=Europe/Berlin:20230626T180000
DTEND;TZID=Europe/Berlin:20230713T210000
DTSTAMP:20260422T034159
CREATED:20230505T080959Z
LAST-MODIFIED:20230505T080959Z
UID:28520-1687802400-1689282000@www.pe-magazin.de
SUMMARY:Venture Nights 2023
DESCRIPTION:Die Venture Nights richten sich an GründerInnen sowie Professionals auf Investorenseite gleichermaßen. Erfahrene Expertinnen und Experten von POELLATH vermitteln in 6 Modulen alles\, was man in rechtlicher und steuerlicher Hinsicht wissen muss\, um mit GründerInnen\, Business Angels\, VCs oder anderen InvestorInnen die Bedingungen eines Investments auf Augenhöhe zu verhandeln. \nVenture Nights 2023\, 26. Juni bis 13. Juli\, jeweils 18 bis 21 Uhr\nPOELLATH Frankfurt\, An der Welle 3\, 60322 Frankfurt\nsowie online via Webex \nDie einzelnen Module im Überblick\nModul 1: VC-Verträge I (Grundlagen)\n26.06.2023 18.00-21.00 Uhr\nBei einer VC-Finanzierung stoßen oft grundsätzliche Interessen von GründerInnen und InvestorInnen aufeinander. \nModul 2: VC-Verträge II\n28.06.2023 18.00-21.00 Uhr\nModul Zwei widmet sich der notwendigen Vertragsdokumentation sowie der sogenannten Beteiligungs- und Gesellschaftervereinbarung (Investment and Shareholders’ Agreement). \nModul 3: Venture Capital-Fonds\n04.07.2023 18.00-21.00 Uhr\nRund um Venture Capital-Fonds stellen sich viele spannende Fragen\, die die Experten von POELLATH in diesem Modul beantworten. \nModul 4: Mitarbeiterbeteiligungen | ESOP\n06.07.2023 18.00-21.00 Uhr\nAnteilsoptionen (ggf. auch virtuell) sind für Start-ups und junge Unternehmen eine häufig gewählte Form\, um MitarbeiterInnen zu gewinnen und an das Unternehmen zu binden. \nModul 5: Steuerrecht | Arbeitsrecht\n11.07.2023 18.00-21.00 Uhr\nSteuerrecht: Neben der Gestaltung und Umsetzung ihrer eigenen Idee sollten sich junge UnternehmerInnen und Start-ups ab den ersten Überlegungen auch Fragen in puncto Steuern stellen. \nArbeitsrecht: Der arbeitsrechtliche Teil vermittelt die „Basics“ des Arbeitsrechts für Start-ups und widmet sich dabei vor allem Punkten\, die typischerweise „falsch laufen“. \nModul 6: IP/IT-Recht und Datenschutz\n13.07.2023 17.00-19.30 Uhr (Achtung: geänderte Uhrzeit!!)\nDer Schutz des geistigen Eigentums ist bei vielen Unternehmen besonders wichtig\, da darüber hinaus häufig keine weiteren Assets vorhanden sind. \nWeitere Infos zu den einzelnen Modulen finden Sie hier. \nAnmeldung\nDie Module können sowohl einzeln als auch als Block gebucht werden. Die Veranstaltung findet in Präsenz statt\, bei Buchung eines Plus-Tickets haben Sie zusätzlich die Möglichkeit der Online-Teilnahme und können auch noch 7 Tage nach dem Termin auf die Videoaufzeichnung zugreifen. Hier geht’s zur Anmeldung
URL:https://www.pe-magazin.de/termin/venture-nights-2023/
LOCATION:POELLATH in Frankfurt\, An der Welle 3\, Frankfurt am Main\, Hessen\, 60322\, Deutschland
CATEGORIES:Venture Capital & Co.
ORGANIZER;CN="P+ Training GmbH":MAILTO:info@pptraining.de
GEO:50.1176206;8.6712936
X-APPLE-STRUCTURED-LOCATION;VALUE=URI;X-ADDRESS=POELLATH in Frankfurt An der Welle 3 Frankfurt am Main Hessen 60322 Deutschland;X-APPLE-RADIUS=500;X-TITLE=An der Welle 3:geo:8.6712936,50.1176206
END:VEVENT
END:VCALENDAR