BEGIN:VCALENDAR
VERSION:2.0
PRODID:-//Private Equity Magazin - ECPv6.15.20//NONSGML v1.0//EN
CALSCALE:GREGORIAN
METHOD:PUBLISH
X-ORIGINAL-URL:https://www.pe-magazin.de
X-WR-CALDESC:Events for Private Equity Magazin
REFRESH-INTERVAL;VALUE=DURATION:PT1H
X-Robots-Tag:noindex
X-PUBLISHED-TTL:PT1H
BEGIN:VTIMEZONE
TZID:Europe/Berlin
BEGIN:DAYLIGHT
TZOFFSETFROM:+0100
TZOFFSETTO:+0200
TZNAME:CEST
DTSTART:20190331T010000
END:DAYLIGHT
BEGIN:STANDARD
TZOFFSETFROM:+0200
TZOFFSETTO:+0100
TZNAME:CET
DTSTART:20191027T010000
END:STANDARD
BEGIN:DAYLIGHT
TZOFFSETFROM:+0100
TZOFFSETTO:+0200
TZNAME:CEST
DTSTART:20200329T010000
END:DAYLIGHT
BEGIN:STANDARD
TZOFFSETFROM:+0200
TZOFFSETTO:+0100
TZNAME:CET
DTSTART:20201025T010000
END:STANDARD
BEGIN:DAYLIGHT
TZOFFSETFROM:+0100
TZOFFSETTO:+0200
TZNAME:CEST
DTSTART:20210328T010000
END:DAYLIGHT
BEGIN:STANDARD
TZOFFSETFROM:+0200
TZOFFSETTO:+0100
TZNAME:CET
DTSTART:20211031T010000
END:STANDARD
END:VTIMEZONE
BEGIN:VEVENT
DTSTART;TZID=Europe/Berlin:20201022T173000
DTEND;TZID=Europe/Berlin:20201022T200000
DTSTAMP:20260424T020441
CREATED:20200826T100817Z
LAST-MODIFIED:20200826T100817Z
UID:23743-1603387800-1603396800@www.pe-magazin.de
SUMMARY:+++ ONLINE +++ M&A-Lehrgang 2020 / Modul 4: Unternehmenskaufvertrag
DESCRIPTION:Der Lehrgang vermittelt die Grundlagen für eine erfolgreiche Durchführung von M&A-Transaktionen. Er richtet sich in erster Linie an Berufsträger mit bis zu drei Jahren Berufserfahrung aus allen Bereichen der M&A-Praxis (Private Equity-Fonds\, Unternehmen\, Banken\, Corporate Finance-Berater). Teilnehmer\, die bereits über Erfahrungen in M&A-Transaktionen verfügen\, können ihre Kenntnisse in einzelnen Bereichen erweitern. Den Teilnehmern werden von erfahrenen M&A-Praktikern die rechtlichen und wirtschaftlichen Grundlagen von M&A-Transaktionen vermittelt. \nDer Lehrgang gliedert sich in zehn Module\, die online mit GoToWebinar übertragen werden. Die Teilnehmer haben so die Möglichkeit\, ihre Fragen schriftlich über die Fragefunktion des Online-Tools zu stellen. Die Module werden außerdem aufgezeichnet. \n  \nModul 4: Unternehmenskaufvertrag\nDo. 22. Oktober 2020\, 17.30 – 20.00 Uhr \n  \nDer Unternehmenskaufvertrag ist das zentrale Element jeder M&A-Transaktion. In ihm wird der Kaufgegenstand identifiziert (Share Deal\, Asset Deal)\, der Kaufpreis festgelegt (insb. Kaufpreisformeln\, Abrechnungsmodalitäten\, Zusatzkaufpreise) und werden die Risiken zwischen Verkäufer und Käufer verteilt (z.B. durch Garantien und Freistellungen). Die Referenten stellen zunächst anhand von Beispielen den typischen Aufbau von Share und Asset Deal-Verträgen vor und erläutern anschließend die einzelnen Elemente dieser Verträge. Ein Schwerpunkt liegt dabei auf der Erläuterung der Rechtsfolgen von Garantieverletzungen (z.B. Schadensumfang\, De Minimis\, Threshold\, Cap\, Verjährung). Dabei werden auch die unterschiedlichen Instrumente zur Besicherung von Garantie- und Freistellungsansprüchen des Käufers besprochen. \nKosten und Anmeldung\nDie Teilnahmegebühr beträgt EUR 750\,– netto für den gesamten Lehrgang. Die Module können auch einzeln gebucht werden zu je EUR 100\,– zzgl. MwSt. Der Betrag beinhaltet die Teilnahme an der Liveübertragung\, einwöchigen Zugang zur Videoaufzeichnung sowie auch die Seminarunterlagen. \nBitte nutzen Sie die Onlineanmeldung des Veranstalters. \nWeitere Module\nModul 5: Unternehmensbewertung und Kaufpreis\nDo. 29.Oktober 2020\, 17.30 – 20.00 Uhr \nModul 6: Akquisitionsfinanzierung und Kartellrecht\nDo. 5. November 2020\, 17.30 – 20.00 Uhr \nModul 7: Minderheits- und Mehrheitsbeteiligungen\nDo. 12. November 2020\, 17.30 – 20.00 Uhr \nModul 8: Private Equity\nDo. 19. November 2020\, 17.30 – 20.00 Uhr \nModul 9: Managementbeteiligungen\nDo. 26. November 2020\, 17.30 – 20.00 Uhr \nModul 10: Distressed M&A\nDo. 3. Dezember 2020\, 17.30 – 20.00 Uhr \n  \nDas komplette Programm zum Download:\nProgramm_MA_Lehrgang_2020
URL:https://www.pe-magazin.de/termin/online-ma-lehrgang-2020-modul-4-unternehmenskaufvertrag/
CATEGORIES:M&A/Private Equity
ORGANIZER;CN="P+ Training GmbH":MAILTO:info@pptraining.de
END:VEVENT
END:VCALENDAR